BEGIN:VCALENDAR
VERSION:2.0
PRODID:-//Connect Mat-Su - ECPv6.15.20//NONSGML v1.0//EN
CALSCALE:GREGORIAN
METHOD:PUBLISH
X-WR-CALNAME:Connect Mat-Su
X-ORIGINAL-URL:https://www.connectmatsu.org
X-WR-CALDESC:Events for Connect Mat-Su
REFRESH-INTERVAL;VALUE=DURATION:PT1H
X-Robots-Tag:noindex
X-PUBLISHED-TTL:PT1H
BEGIN:VTIMEZONE
TZID:America/Anchorage
BEGIN:DAYLIGHT
TZOFFSETFROM:-0900
TZOFFSETTO:-0800
TZNAME:AKDT
DTSTART:20190310T110000
END:DAYLIGHT
BEGIN:STANDARD
TZOFFSETFROM:-0800
TZOFFSETTO:-0900
TZNAME:AKST
DTSTART:20191103T100000
END:STANDARD
BEGIN:DAYLIGHT
TZOFFSETFROM:-0900
TZOFFSETTO:-0800
TZNAME:AKDT
DTSTART:20200308T110000
END:DAYLIGHT
BEGIN:STANDARD
TZOFFSETFROM:-0800
TZOFFSETTO:-0900
TZNAME:AKST
DTSTART:20201101T100000
END:STANDARD
BEGIN:DAYLIGHT
TZOFFSETFROM:-0900
TZOFFSETTO:-0800
TZNAME:AKDT
DTSTART:20210314T110000
END:DAYLIGHT
BEGIN:STANDARD
TZOFFSETFROM:-0800
TZOFFSETTO:-0900
TZNAME:AKST
DTSTART:20211107T100000
END:STANDARD
END:VTIMEZONE
BEGIN:VEVENT
DTSTART;TZID=America/Anchorage:20201213T130000
DTEND;TZID=America/Anchorage:20201213T160000
DTSTAMP:20260422T022815
CREATED:20210408T173532Z
LAST-MODIFIED:20210625T181854Z
UID:10007809-1607864400-1607875200@www.connectmatsu.org
SUMMARY:Zentangle Holiday ZIA Workshop
DESCRIPTION:$35 + Supplies\nKnowledge of Zentangle® is Recommended!\nFunctional Zoom equipment and participation is required.\nEvery year I teach a “Zentangle® Holiday ZIA Workshop”. This year is online via Zoom. It is tons of fun and every year is a different project! Register though Blaines Art Supply and get Supply List. You’ll be surprised and delighted while creating beautiful Zentangle® art and holiday gifts!
URL:https://www.connectmatsu.org/event/zentangle-holiday-zia-workshop/
END:VEVENT
BEGIN:VEVENT
DTSTART;TZID=America/Anchorage:20201211T173000
DTEND;TZID=America/Anchorage:20201211T190000
DTSTAMP:20260422T022815
CREATED:20210408T173547Z
LAST-MODIFIED:20210625T181905Z
UID:10007904-1607707800-1607713200@www.connectmatsu.org
SUMMARY:COR Community Chat
DESCRIPTION:The mission of Choosing Our Roots is to ensure that all queer youth and young adults in Alaska have access to safe homes\, supportive communities\, and opportunities to thrive. To learn more about our community host home model\, check out our website.
URL:https://www.connectmatsu.org/event/cor-community-chat-2/
END:VEVENT
BEGIN:VEVENT
DTSTART;TZID=America/Anchorage:20201211T110000
DTEND;TZID=America/Anchorage:20201213T150000
DTSTAMP:20260422T022815
CREATED:20210408T173533Z
LAST-MODIFIED:20210625T181854Z
UID:10007817-1607684400-1607871600@www.connectmatsu.org
SUMMARY:Colony Christmas Arts & Crafts Fair at the Palmer Train Depot
DESCRIPTION:This event is hosted by the Palmer Chamber of Commerce!\nAlaska Homie Gnomies: Handmade homies (we don’t call them gnomes) made with real fur or wool beards/hair. Each is individually hand crafted in Eagle River\, Alaska and no two are exactly alike. “Life is better with a homie”!
URL:https://www.connectmatsu.org/event/colony-christmas-arts-crafts-fair-at-the-palmer-train-depot/
END:VEVENT
BEGIN:VEVENT
DTSTART;TZID=America/Anchorage:20201210T170000
DTEND;TZID=America/Anchorage:20201210T180000
DTSTAMP:20260422T022815
CREATED:20210408T173540Z
LAST-MODIFIED:20210625T181902Z
UID:10007851-1607619600-1607623200@www.connectmatsu.org
SUMMARY:Helping Children Cope
DESCRIPTION:Helping Children Cope: Children sometimes have a hard time coping with “big energy” and feelings. Learn developmental considerations\, techniques and strategies to use when assisting young children in managing energy\, emotions and the affects it has on their bodies.
URL:https://www.connectmatsu.org/event/helping-children-cope/
END:VEVENT
BEGIN:VEVENT
DTSTART;TZID=America/Anchorage:20201210T170000
DTEND;TZID=America/Anchorage:20201210T180000
DTSTAMP:20260422T022815
CREATED:20210408T173540Z
LAST-MODIFIED:20210625T181902Z
UID:10007855-1607619600-1607623200@www.connectmatsu.org
SUMMARY:Helping Children Cope
DESCRIPTION:thread’s Parent TALK is a free group where parents learn\, share ideas\, and ask questions about the joys and challenges of parenting.\nParent TALK meets virtually through Zoom on the second Thursday of the month\, October through June.\nPre-registration is required. Registration for an upcoming session opens at 9 am the Monday following the previous session.\nFor more information please call 907.265.3100.
URL:https://www.connectmatsu.org/event/helping-children-cope-2/
END:VEVENT
BEGIN:VEVENT
DTSTART;TZID=America/Anchorage:20201210T103000
DTEND;TZID=America/Anchorage:20201210T110000
DTSTAMP:20260422T022815
CREATED:20210408T173534Z
LAST-MODIFIED:20210625T181855Z
UID:10007821-1607596200-1607598000@www.connectmatsu.org
SUMMARY:Online Community Café: Child Sexual Abuse Prevention Zoom
DESCRIPTION:R.O.C.K. Mat-Su invites any Mat-Su adults interested in strengthening our community and helping prevent child sexual abuse. A Community Café is a way to have meaningful conversations about things that are important to us and for our community. You do not need to be a parent or work with youth to be part of the solution.\nJoin Zoom Meeting\nhttps://zoom.us/j/92360352829…\nMeeting ID: 923 6035 2829\nPasscode: 075919\nThe topic of this Community Café is child sexual abuse prevention.\nChild sexual abuse is any interaction between a child and an adult (or another child) in which the child is used for the sexual stimulation of the perpetrator or an observer. Sexual abuse can include\nboth touching and non-touching behaviors. Abusers often do not use physical force\, but may use play\, deception\, threats\, or other forms of coercion to engage children and maintain their silence.
URL:https://www.connectmatsu.org/event/online-community-cafe-child-sexual-abuse-prevention-zoom/
END:VEVENT
BEGIN:VEVENT
DTSTART;TZID=America/Anchorage:20201210T100000
DTEND;TZID=America/Anchorage:20201210T113000
DTSTAMP:20260422T022815
CREATED:20210408T173534Z
LAST-MODIFIED:20210625T181855Z
UID:10007819-1607594400-1607599800@www.connectmatsu.org
SUMMARY:Online Presentation: ACEs & Trauma Sensitive Practices
DESCRIPTION:This FREE workshop is open to ADULTS who are interested in learning how to identify and counteract Adverse Childhood Experiences (ACEs) to develop resilient kids.\nJoin Zoom Meeting: https://zoom.us/join\nMeeting ID: 963 0471 4448\nPassword: ROCK\nFrequent or prolonged exposure to stress can create toxic stress which can damage the developing brain of a child and overall health. A Survival Mode Response to toxic stress increases a child’s heart rate\, blood pressure\, breathing and muscle tension. Their thinking brain is knocked offline. Self-protection is their priority. In other words: “I can’t hear you! I can’t respond to you! I am just\ntrying to be safe!”\nLearn How Resilience Trumps ACEs! Parents\, Teachers and Caregivers can help by:\n– Gaining an understanding of ACEs and how they affect children’s social\, emotional\, and cognitive abilities and thier connection\na wide range of health problems throughout a person’s lifespan.\n– Creating environments where children feel safe emotionally & physically.\n– Helping children identify feelings & manage emotions\n– Creating a safe physical & emotional environment at home\, in school\, and in neighborhoods.\n– Share ways to build resilience.\nQuestions?\nPresentation Content Contact: Michelle.Boyden@matsuk12.us\nEvent Details Contact: lprunella@rockmatsu.org
URL:https://www.connectmatsu.org/event/online-presentation-aces-trauma-sensitive-practices/
END:VEVENT
BEGIN:VEVENT
DTSTART;TZID=America/Anchorage:20201209T131500
DTEND;TZID=America/Anchorage:20201209T143000
DTSTAMP:20260422T022815
CREATED:20210408T173544Z
LAST-MODIFIED:20210625T181904Z
UID:10007885-1607519700-1607524200@www.connectmatsu.org
SUMMARY:Walkabout Wednesdays
DESCRIPTION:Join Ann and Jodie for Facebook live WALKABOUT WEDNESDAYS! We’ll start here at 2:15 Wednesdays on Facebook live and learn some nerdy science tidbits you can take part in from home.
URL:https://www.connectmatsu.org/event/walkabout-wednesdays/
END:VEVENT
BEGIN:VEVENT
DTSTART;TZID=America/Anchorage:20201208T140000
DTEND;TZID=America/Anchorage:20201208T150000
DTSTAMP:20260422T022815
CREATED:20210408T173530Z
LAST-MODIFIED:20210625T181853Z
UID:10007803-1607436000-1607439600@www.connectmatsu.org
SUMMARY:Alaska Afterschool Ranking Reveal!
DESCRIPTION:Join the Alaska Afterschool Network and Alaska Children’s Trust for “The Afterschool Rank is Right”\, a game show to find out how Alaska’s afterschool programming stacked up in the America After 3pm nationwide ranking. Tune in at 3pm on December 8 to find out Alaska’s rank. You don’t want to miss it!
URL:https://www.connectmatsu.org/event/alaska-afterschool-ranking-reveal/
END:VEVENT
BEGIN:VEVENT
DTSTART;TZID=America/Anchorage:20201208T120000
DTEND;TZID=America/Anchorage:20201208T130000
DTSTAMP:20260422T022815
CREATED:20210408T173532Z
LAST-MODIFIED:20210625T181854Z
UID:10007808-1607428800-1607432400@www.connectmatsu.org
SUMMARY:Tuesday Tangle Alaska Meetup
DESCRIPTION:Our free monthly Zentangle social meetup is online. Let’s catch up\, share\, and tangle! Bring your basic Zentangle® supplies and beverage & snacks. Be sure your Zoom equipment is functional. Here is a video to help you: https://www.youtube.com/watch?v=9isp3qPeQ0E&t=14s\nYour Zoom Link will be emailed to you. See you soon!!
URL:https://www.connectmatsu.org/event/tuesday-tangle-alaska-meetup/
END:VEVENT
BEGIN:VEVENT
DTSTART;TZID=America/Anchorage:20201207T160000
DTEND;TZID=America/Anchorage:20201207T180000
DTSTAMP:20260422T022815
CREATED:20210408T173542Z
LAST-MODIFIED:20210625T181903Z
UID:10007870-1607356800-1607364000@www.connectmatsu.org
SUMMARY:Monday Night Support Group
DESCRIPTION:Who- Parents and Caregivers of children and youth ages 0-25.\nWhat-A peer support group to strengthen and increase social connection\, support\, and community relationships for families who are actively raising children.\nWhen-Monday nights from 5:00-7:00 pm
URL:https://www.connectmatsu.org/event/monday-night-support-group-4/
END:VEVENT
BEGIN:VEVENT
DTSTART;TZID=America/Anchorage:20201205T090000
DTEND;TZID=America/Anchorage:20201205T093000
DTSTAMP:20260422T022815
CREATED:20210408T173541Z
LAST-MODIFIED:20210625T181903Z
UID:10007861-1607158800-1607160600@www.connectmatsu.org
SUMMARY:Virtual Santa Party!
DESCRIPTION:Our annual Santa Party is coming to you virtually this year! We are keeping you and Santa safe by bringing the North Pole to you!\nSanta is coming early to Stone Soup Group! We invite families of children with special needs to enjoy the holiday spirit from home via zoom.\nUnlike the mall experience with Santa where you have to wait in a long line\, all you need to do is register your family and log in to Zoom at least 10 minutes before your appointment. We will send an individual link after you have registered. Enjoy story -time and activities with Mrs. Clause and Santa’s elves in our virtual waiting room before your turn with the jolly man from North Pole.\nWe will send a video of your conversation with Santa\, and each Family will a gift and a goody bag for each registered child. Santa’s Elves will deliver the gifts (contactless)\, so please make sure to include your address. Space is limited\, reserve a spot today.\nThis is a FREE event.
URL:https://www.connectmatsu.org/event/virtual-santa-party/
END:VEVENT
BEGIN:VEVENT
DTSTART;TZID=America/Anchorage:20201205T084500
DTEND;TZID=America/Anchorage:20201205T143000
DTSTAMP:20260422T022815
CREATED:20210408T173547Z
LAST-MODIFIED:20210625T181905Z
UID:10007909-1607157900-1607178600@www.connectmatsu.org
SUMMARY:COR Virtual Volunteer Training
DESCRIPTION:This is a FREE training for people interested in volunteering with Choosing Our Roots (COR) in all roles available. This training\, Day 1 and 2\, are also mandatory for all people wanting to volunteer. Please sign up via the link below so that we can share the Zoom information with you!\nhttps://app.acuityscheduling.com/schedule.php…\nHost a youth in your home\, be a mentor/support to a youth\, a host home liaison\, a donor\, or lots of other unique roles.\n**Hosts are needed ASAP for youth currently experiencing homelessness in both Anchorage and MatSu**\nFacilitators from COR will engage participants in discussions about the values that shape our work with youth and young adults. Facilitators will also share information related to programming and answer questions about COR’s host home program safely housing LGBTQ+ young people aged 13 to 24 in Mat Su and Anchorage. You can sign up for this training wherever you are in Alaska to get a head start on becoming a host or direct service volunteer. Virtual volunteering is also a possibility!
URL:https://www.connectmatsu.org/event/cor-virtual-volunteer-training/
END:VEVENT
BEGIN:VEVENT
DTSTART;TZID=America/Anchorage:20201204T173000
DTEND;TZID=America/Anchorage:20201204T190000
DTSTAMP:20260422T022815
CREATED:20210408T173547Z
LAST-MODIFIED:20210625T181905Z
UID:10007907-1607103000-1607108400@www.connectmatsu.org
SUMMARY:COR Community Chat
DESCRIPTION:The mission of Choosing Our Roots is to ensure that all queer youth and young adults in Alaska have access to safe homes\, supportive communities\, and opportunities to thrive. To learn more about our community host home model\, check out our website.
URL:https://www.connectmatsu.org/event/cor-community-chat-5/
END:VEVENT
BEGIN:VEVENT
DTSTART;TZID=America/Anchorage:20201201T120000
DTEND;TZID=America/Anchorage:20201201T123000
DTSTAMP:20260422T022815
CREATED:20210408T173542Z
LAST-MODIFIED:20220921T173957Z
UID:10007877-1606824000-1606825800@www.connectmatsu.org
SUMMARY:Mat Su Special Santa
DESCRIPTION:Applications due Dec 1\, 2020\nPick Ups Begin on Dec 9\,2020 \nThe Mat-Su Special Santa program was founded in 1997 and has helped over 47\,000 Mat-Su children from newborns to age 18 with Christmas gifts. We are a program of Alaska Family Services\, a 501c3 Non-Profit\, and a partner with the Toys 4 Tots program. \nOur goal is to help spread the magic of Christmas by providing families in need with Christmas presents for their children as well as bringing the community together with volunteer opportunities in the workshop and fundraising events. \nWe wish you a very happy Holiday Season! \n-The Elves
URL:https://www.connectmatsu.org/event/mat-su-special-santa/
END:VEVENT
BEGIN:VEVENT
DTSTART;TZID=America/Anchorage:20201201T070000
DTEND;TZID=America/Anchorage:20201214T110000
DTSTAMP:20260422T022815
CREATED:20210408T173543Z
LAST-MODIFIED:20210625T181904Z
UID:10007879-1606806000-1607943600@www.connectmatsu.org
SUMMARY:Virtual Holiday at the Farm
DESCRIPTION:Join us this year for a virtual version of our Holiday at the Farm celebration!\nWe are hosting online contests that will run from December 1st- December 14th.\nFriday the 11th we will have a Facebook Live tree lighting and free giveaway!\nPrizes will be announced on Facebook LIve at Walkabout Wednesday Dec 16 at 2:15 pm\nContest Categories: Kids 18 and under:\nCookie Decorating\,\nGingerbread Houses\,\nLocal Harvest Dish (Must be locally grown\, foraged or hunted)\nAdults:\nFood preservation- Most interesting way to preserve your harvest\nMost Unique Winter food production\nLocal Harvest Dish- Sweet and savory. (Must be locally grown\, foraged or hunted)\n* Limit 1 entry per category per person\nUA is an AA/EO employer and educational institution and prohibits illegal discrimination against any individual: www.alaska.edu/nondiscrimination\nAccommodation requests related to a disability should be made five business days in advance to jrbird@alaska.edu or tmisaac@alaska.edu
URL:https://www.connectmatsu.org/event/virtual-holiday-at-the-farm/
END:VEVENT
BEGIN:VEVENT
DTSTART;TZID=America/Anchorage:20201130T160000
DTEND;TZID=America/Anchorage:20201130T163000
DTSTAMP:20260422T022815
CREATED:20210408T173542Z
LAST-MODIFIED:20220921T174016Z
UID:10007869-1606752000-1606753800@www.connectmatsu.org
SUMMARY:Monday Night Support Group
DESCRIPTION:Who- Parents and Caregivers of children and youth ages 0-25.\nWhat-A peer support group to strengthen and increase social connection\, support\, and community relationships for families who are actively raising children.\nWhen-Monday nights from 5:00-7:00 pm
URL:https://www.connectmatsu.org/event/monday-night-support-group-3/
END:VEVENT
BEGIN:VEVENT
DTSTART;TZID=America/Anchorage:20201127T173000
DTEND;TZID=America/Anchorage:20201127T190000
DTSTAMP:20260422T022815
CREATED:20210408T173547Z
LAST-MODIFIED:20210625T181905Z
UID:10007903-1606498200-1606503600@www.connectmatsu.org
SUMMARY:COR Community Chat
DESCRIPTION:The mission of Choosing Our Roots is to ensure that all queer youth and young adults in Alaska have access to safe homes\, supportive communities\, and opportunities to thrive. To learn more about our community host home model\, check out our website.
URL:https://www.connectmatsu.org/event/cor-community-chat/
END:VEVENT
BEGIN:VEVENT
DTSTART;TZID=America/Anchorage:20201126T150000
DTEND;TZID=America/Anchorage:20201213T200000
DTSTAMP:20260422T022815
CREATED:20210408T173529Z
LAST-MODIFIED:20210625T181852Z
UID:10007799-1606402800-1607889600@www.connectmatsu.org
SUMMARY:Bright Up the Night\, drive-through light display
DESCRIPTION:Bright Up the Night\, presented by AT&T\, is Alaska’s largest drive-through light display and is coming to the Alaska State Fair!\nThis event is open Thursdays through Sundays from November 26 through December 13\, and then daily from December 17 through January 2. Hours are from 4 to 9 p.m.\nThe light display\, designed by North Pole Productions\, features more than 70 different light displays spanning the entire length of the fairgrounds\, from the Purple Gate through the Green Gate. From the warmth and comfort of their vehicles\, guests drive through festive light displays while enjoying the holiday music broadcast synced directly to their radio.\nGuests can double their holiday cheer by taking advantage of the Fair’s partnership with The Christmas Factory\, which offers a 10 percent discount code to anyone who buys tickets to either event. At The Christmas Factory\, located on the fairgrounds\, visitors experience the magic of Christmas by touring Santa’s workshop\, delivering a personalized letter to Santa’s mailbox\, getting a peek into the elf wrapping room\, powering up Santa’s sleigh\, enjoying a treat in Mrs. Claus’ bakery\, and even meeting Santa himself.\nThis event is made possible by these generous Sponsors: AT&T\, Tote Maritime\, Alaska Airlines\, Alaska529\, Mat-Su Valley Cancer Center\, Matanuska Valley Federal Credit Union\, Channel 2 and CBS 5\, and Lynden Transport. Thank you!\nTickets on sale now at https://www.alaskastatefair.org/site/bright-up-the-night/. Advance purchase is required\, reserve your spot today! Special advance prices\, starting at $20 for personal use vehicles\, are available for tickets purchased by November 25.
URL:https://www.connectmatsu.org/event/bright-up-the-night-drive-through-light-display/
END:VEVENT
BEGIN:VEVENT
DTSTART;TZID=America/Anchorage:20201126T100000
DTEND;TZID=America/Anchorage:20201126T140000
DTSTAMP:20260422T022815
CREATED:20210408T173539Z
LAST-MODIFIED:20210625T181901Z
UID:10007849-1606384800-1606399200@www.connectmatsu.org
SUMMARY:Thanksgiving Dinner
DESCRIPTION:IMPORTANT UPDATE: Following careful consultation with the City of Wasilla\, and in accordance with the city’s guidance\, there will no longer be a dine-in seating option.  The Thanksgiving meals will be distributed via drive-thru ONLY from 10:00 am – 2:00 pm at the Menard Center located at 1001 S Clapp St in Wasilla. This year\, it is expected\, that roughly 2\,000 meals will be distributed at the Thanksgiving Dinner. Interested in supporting this year’s Thanksgiving Dinner? Visit frontlinemission.org to register as a volunteer or sponsor a meal for $4.09 which will be matched by a generous sponsor.
URL:https://www.connectmatsu.org/event/thanksgiving-dinner/
END:VEVENT
BEGIN:VEVENT
DTSTART;TZID=America/Anchorage:20201125T090000
DTEND;TZID=America/Anchorage:20201125T100000
DTSTAMP:20260422T022815
CREATED:20210408T173531Z
LAST-MODIFIED:20210625T181854Z
UID:10007805-1606294800-1606298400@www.connectmatsu.org
SUMMARY:Alaska Explorers: Glaciers and their Landscapes (4th - 6th graade)
DESCRIPTION:During this weekly\, interactive virtual series for at-home learners\, your child will uncover the wonders of Alaska’s natural world. This week\, discover how glacier ice has sculpted Alaska through an engaging demonstration. Examine videos and images to see how glaciers and their landscapes change over time.\nRegistration Required and space is limited.
URL:https://www.connectmatsu.org/event/alaska-explorers-glaciers-and-their-landscapes-4th-6th-graade/
END:VEVENT
BEGIN:VEVENT
DTSTART;TZID=America/Anchorage:20201124T170000
DTEND;TZID=America/Anchorage:20201124T190000
DTSTAMP:20260422T022815
CREATED:20210408T173532Z
LAST-MODIFIED:20210625T181854Z
UID:10007810-1606237200-1606244400@www.connectmatsu.org
SUMMARY:Meet Online-- Other Minds Book Club
DESCRIPTION:Please join us for our virtual book club meeting as we come together to discuss the book club pick.
URL:https://www.connectmatsu.org/event/meet-online-other-minds-book-club/
END:VEVENT
BEGIN:VEVENT
DTSTART;TZID=America/Anchorage:20201124T150000
DTEND;TZID=America/Anchorage:20201124T160000
DTSTAMP:20260422T022815
CREATED:20210408T173531Z
LAST-MODIFIED:20210625T181854Z
UID:10007806-1606230000-1606233600@www.connectmatsu.org
SUMMARY:Slowing down\, Tuning In: Practices to Connect with Nature
DESCRIPTION:
URL:https://www.connectmatsu.org/event/slowing-down-tuning-in-practices-to-connect-with-nature/
END:VEVENT
BEGIN:VEVENT
DTSTART;TZID=America/Anchorage:20201123T160000
DTEND;TZID=America/Anchorage:20201123T180000
DTSTAMP:20260422T022815
CREATED:20210408T173542Z
LAST-MODIFIED:20210625T181903Z
UID:10007873-1606147200-1606154400@www.connectmatsu.org
SUMMARY:Monday Night Support Group
DESCRIPTION:Who- Parents and Caregivers of children and youth ages 0-25.\nWhat-A peer support group to strengthen and increase social connection\, support\, and community relationships for families who are actively raising children.\nWhen-Monday nights from 5:00-7:00 pm
URL:https://www.connectmatsu.org/event/monday-night-support-group-7/
END:VEVENT
BEGIN:VEVENT
DTSTART;TZID=America/Anchorage:20201121T130000
DTEND;TZID=America/Anchorage:20201121T160000
DTSTAMP:20260422T022815
CREATED:20210408T173531Z
LAST-MODIFIED:20210625T181854Z
UID:10007807-1605963600-1605974400@www.connectmatsu.org
SUMMARY:The Zetangle Method Online Class
DESCRIPTION:The Zentangle Method is an easy-to-learn and relaxing way of creating beautiful abstract art by drawing structured patterns (tangles). Tangles are broken down into steps making it easy for ALL ages and abilities! Even those who say they can’t draw (like me) can be artists! In 2014 I was trained by Rick Roberts and Maria Thomas\, founders of Zentangle Inc.\, in Providence\, Rhode Island.\nZentangle is beneficial in relaxation and stress relief\, pain management\, art therapy\, in recovery\, working with children\, journals\, and creative inspiration. Many people say since practicing Zentangle they can sleep; fly without fear; hear and remember lectures; achieve new calmness\, focus\, and increase self esteem and confidence. Zentangle art can improve your life!\nFor more information on Zentangle and sign up for their Newsletter go to: www.zentangle.com\nWebsite: www.tanglealaska.com\nEmail me: donnajacobsonczt@gmail.com\nWork Phone: 907-348-8712 (please leave a message!)\nFiber Art Website: www.lockerhooking.com\nhttp://www.tanglealaska.com/
URL:https://www.connectmatsu.org/event/the-zetangle-method-online-class/
END:VEVENT
BEGIN:VEVENT
DTSTART;TZID=America/Anchorage:20201121T100000
DTEND;TZID=America/Anchorage:20201121T160000
DTSTAMP:20260422T022817
CREATED:20210408T173546Z
LAST-MODIFIED:20210625T181905Z
UID:10007902-1605952800-1605974400@www.connectmatsu.org
SUMMARY:Thanksgiving Blessing
DESCRIPTION:The Valley faith community\, the Food Bank of Alaska\, and many volunteers are partnering to ensure struggling families in the Valley are able to enjoy a Thanksgiving meal. See the flyer below for more details.\nAre you interested in learning about other programs in the community that assist families in need? Give us a call.
URL:https://www.connectmatsu.org/event/thanksgiving-blessing/
END:VEVENT
BEGIN:VEVENT
DTSTART;TZID=America/Anchorage:20201119T160000
DTEND;TZID=America/Anchorage:20201119T170000
DTSTAMP:20260422T022817
CREATED:20210408T173529Z
LAST-MODIFIED:20210625T181852Z
UID:10007798-1605801600-1605805200@www.connectmatsu.org
SUMMARY:Paint & Take Night
DESCRIPTION:Join us for another Paint & Take Night!\nChoose your model: a vicious Manticore or a lumbering Ogre Zombie. Your event fee of $20 covers the pre-primed miniature\, a pallate of paint colors for your model\, two brushes\, and access to a painting tutorial and our staff tips.\nPaint here or take your model home if you prefer. In-store painters will have the option to order a hot sandwich delivered from our deli for an additional $10.\nEnjoy the company and advice of other enthusiasts while you paint\, and pick up some new techniques or ideas for your next character or role-playing campaign!\nPre-registration is recommended but not required. Give us a call or message to reserve your kit!
URL:https://www.connectmatsu.org/event/paint-take-night/
END:VEVENT
BEGIN:VEVENT
DTSTART;TZID=America/Anchorage:20201119T100000
DTEND;TZID=America/Anchorage:20201119T103000
DTSTAMP:20260422T022817
CREATED:20210408T173529Z
LAST-MODIFIED:20210625T181852Z
UID:10007797-1605780000-1605781800@www.connectmatsu.org
SUMMARY:LIVE from the Farm!
DESCRIPTION:Join us on the last Thursday of the month @ 11am (ALASKA TIME!) as we go Facebook Live from the farm! Come and see what the herd is up to and ask us all of those burning questions you have about musk oxen!  \nThe Musk Ox Farm is a nonprofit organization dedicated to the promotion of gentle musk ox husbandry and qiviut production to benefit northern people and to provide education to the public.
URL:https://www.connectmatsu.org/event/live-from-the-farm/
END:VEVENT
BEGIN:VEVENT
DTSTART;TZID=America/Anchorage:20201118T180000
DTEND;TZID=America/Anchorage:20201118T200000
DTSTAMP:20260422T022817
CREATED:20210408T173529Z
LAST-MODIFIED:20210625T181852Z
UID:10007801-1605722400-1605729600@www.connectmatsu.org
SUMMARY:Online Fishing Forum: Ice Fishing 101
DESCRIPTION:Have you wanted to get your family interested in fishing\, but haven’t had success in the summer? The good news is\, ice fishing is a wonderful gateway to year-round fishing\, and we can tell you all about how to get started!\nThe Alaska Department of Fish and Game (ADF&G)\, Division of Sport Fish\, will be hosting a beginner-level online fishing forum titled\, “Ice Fishing 101\,” on the Alaska Department of Fish and Game YouTube channel.\nThe presentation will cover ice fishing basics\, including ice safety\, ice fishing gear\, how to find an appropriate place to fish that meets your needs\, which species are commonly fished for under the ice\, which tackle to use\, and how to find fishing regulations for the areas you are hoping to fish in. This fishing forum will be available on YouTube on Wednesday\, November 18\, 2020\, at 6:00 p.m. ADF&G staff will be available to answer any questions in real-time on the YouTube chat from 6:00 p.m. until the close of the presentation.\nThe presentation will then remain on the ADF&G YouTube channel and can be viewed any time after the premiere
URL:https://www.connectmatsu.org/event/online-fishing-forum-ice-fishing-101/
END:VEVENT
BEGIN:VEVENT
DTSTART;TZID=America/Anchorage:20201118T130000
DTEND;TZID=America/Anchorage:20201118T143000
DTSTAMP:20260422T022817
CREATED:20210408T173538Z
LAST-MODIFIED:20210625T181859Z
UID:10007844-1605704400-1605709800@www.connectmatsu.org
SUMMARY:Online Presentation: ACEs & Trauma Sensitive Practices
DESCRIPTION:This FREE workshop is open to ADULTS who are interested in learning how to identify and counteract Adverse Childhood Experiences (ACEs) to develop resilient kids. \nJoin Zoom Meeting: https://zoom.us/join\nMeeting ID: 963 0471 4448\nPassword: ROCK \nFrequent or prolonged exposure to stress can create toxic stress which can damage the developing brain of a child and overall health. A Survival Mode Response to toxic stress increases a child’s heart rate\, blood pressure\, breathing and muscle tension. Their thinking brain is knocked offline. Self-protection is their priority. In other words: “I can’t hear you! I can’t respond to you! I am just trying to be safe!” \nLearn How Resilience Trumps ACEs! Parents\, Teachers and Caregivers can  \nhelp by:\n– Gaining an understanding of ACEs and how they affect children’s social\, emotional\, and cognitive abilities and their connection a wide range of health problems throughout a person’s lifespan.\n– Creating environments where children feel safe emotionally & physically.\n– Helping children identify feelings & manage emotions\n– Creating a safe physical & emotional environment at home\, in school\, and in neighborhoods.\n– Share ways to build resilience. \nQuestions? \nPresentation Content Contact: Michelle.Boyden@matsuk12.us \nEvent Details Contact: lprunella@rockmatsu.org
URL:https://www.connectmatsu.org/event/online-presentation-aces-trauma-sensitive-practices-3/
END:VEVENT
END:VCALENDAR