BEGIN:VCALENDAR
VERSION:2.0
PRODID:-//Connect Mat-Su - ECPv6.15.20//NONSGML v1.0//EN
CALSCALE:GREGORIAN
METHOD:PUBLISH
X-WR-CALNAME:Connect Mat-Su
X-ORIGINAL-URL:https://www.connectmatsu.org
X-WR-CALDESC:Events for Connect Mat-Su
REFRESH-INTERVAL;VALUE=DURATION:PT1H
X-Robots-Tag:noindex
X-PUBLISHED-TTL:PT1H
BEGIN:VTIMEZONE
TZID:America/Anchorage
BEGIN:DAYLIGHT
TZOFFSETFROM:-0900
TZOFFSETTO:-0800
TZNAME:AKDT
DTSTART:20250309T110000
END:DAYLIGHT
BEGIN:STANDARD
TZOFFSETFROM:-0800
TZOFFSETTO:-0900
TZNAME:AKST
DTSTART:20251102T100000
END:STANDARD
BEGIN:DAYLIGHT
TZOFFSETFROM:-0900
TZOFFSETTO:-0800
TZNAME:AKDT
DTSTART:20260308T110000
END:DAYLIGHT
BEGIN:STANDARD
TZOFFSETFROM:-0800
TZOFFSETTO:-0900
TZNAME:AKST
DTSTART:20261101T100000
END:STANDARD
BEGIN:DAYLIGHT
TZOFFSETFROM:-0900
TZOFFSETTO:-0800
TZNAME:AKDT
DTSTART:20270314T110000
END:DAYLIGHT
BEGIN:STANDARD
TZOFFSETFROM:-0800
TZOFFSETTO:-0900
TZNAME:AKST
DTSTART:20271107T100000
END:STANDARD
END:VTIMEZONE
BEGIN:VEVENT
DTSTART;TZID=America/Anchorage:20260417T160000
DTEND;TZID=America/Anchorage:20260425T180000
DTSTAMP:20260422T035011
CREATED:20260416T231120Z
LAST-MODIFIED:20260422T112211Z
UID:10012940-1776441600-1777140000@www.connectmatsu.org
SUMMARY:Mat-Su College Student Art Showcase
DESCRIPTION:Celebrate creativity\, vision\, and talent at the Mat-Su College Student Art Showcase\, happening April 17–25. This end-of-year exhibition showcases the exceptional work of Mat-Su Fine Art students\, featuring a diverse range of artistic expressions and innovations. \nJoin us for the Opening Celebration on April 17 from 4–6 PM and be among the first to experience this inspiring showcase. For more information\, contact Michelle Mishaan at mlmishaan@alaska.edu.
URL:https://www.connectmatsu.org/event/mat-su-college-student-art-showcase/
END:VEVENT
BEGIN:VEVENT
DTSTART;TZID=America/Anchorage:20260421T100000
DTEND;TZID=America/Anchorage:20260422T180000
DTSTAMP:20260422T035011
CREATED:20260317T214415Z
LAST-MODIFIED:20260422T112212Z
UID:10012892-1776765600-1776880800@www.connectmatsu.org
SUMMARY:IDEA Homeschool Curriculum\, Fair (Wasilla)
DESCRIPTION:Join us for our 28th annual springtime event\, the IDEA Homeschool Curriculum Fair: Chart Your Course!\nThe IDEA Curriculum Fair is the premier homeschool event in Alaska where participants have the opportunity to learn about homeschool products from dozens of homeschool curriculum providers and a wide variety of educational workshops.\nWhether enrolled with IDEA or another program\, considering homeschool\, or your kids attend building-based school\, EVERYONE is welcome to attend our public event!\nParticipant registration will open up on April 1st!\nWHERE: Menard Sports Center\nWHEN: Tuesday\, April 21\, 2026 & Wednesday\, April 22\, 2026\nEVENT SCHEDULE:\nTuesday\, April 21\, 2026\n10:00 a.m. – 6:00 p.m. Exhibit Hall open\n10:30 a.m. – 5:00 p.m. Workshops\n1:00 – 2:30 p.m. – Homeschool Tips with Brown Bag Social\nWednesday\, April 22\, 2026\n10:00 a.m. – 3:00 p.m. Exhibit Hall open\n10:30 a.m. – 2:00 p.m. Workshops \nMORE INFO:\nVisit https://fair.ideahomeschool.org/anchorage-valley to learn more!
URL:https://www.connectmatsu.org/event/idea-homeschool-curriculum-fair-wasilla/
ATTACH;FMTTYPE=image/webp:https://www.connectmatsu.org/wp-content/uploads/2026/03/idea-fair-4.21-and-4.22.26.webp
END:VEVENT
BEGIN:VEVENT
DTSTART;TZID=America/Anchorage:20260422T140000
DTEND;TZID=America/Anchorage:20260422T190000
DTSTAMP:20260422T035011
CREATED:20260302T183551Z
LAST-MODIFIED:20260422T112210Z
UID:10012847-1776866400-1776884400@www.connectmatsu.org
SUMMARY:Mat-Su College 2026 Spring Open House
DESCRIPTION:Ready to take the next step in your education? Whether you’re a high school student or looking to level up your career\, come and experience the atmosphere and community in action at Mat-Su College! Join us for our annual Spring Open House to explore our campus\, meet some faculty\, and get a head start on your future.
URL:https://www.connectmatsu.org/event/mat-su-college-2026-spring-open-house/
ATTACH;FMTTYPE=application/pdf:https://www.connectmatsu.org/wp-content/uploads/2026/03/MSC-Open-House-2026.pdf
END:VEVENT
BEGIN:VEVENT
DTSTART;TZID=America/Anchorage:20260422T173000
DTEND;TZID=America/Anchorage:20260422T193000
DTSTAMP:20260422T035011
CREATED:20260320T112207Z
LAST-MODIFIED:20260422T112210Z
UID:10012895-1776879000-1776886200@www.connectmatsu.org
SUMMARY:Big Bash Mat-Su
DESCRIPTION:Be part of something BIG this April!\nBig Brothers Big Sisters of Alaska is raising $75\,000 to support\nmentoring matches and create new ones for youth across our state\, and we need YOU!\nLearn about our mission\, connect with the community\, win door prizes\, and join us in an Alaska Airlines Raffle Sale!\nPurchase raffle tickets at the event for your chance to win BIG! Apps & taps provided (plus great non-alcohol options!) Every dollar helps start and sustain a life-changing relationship. Help us reach our goal of $75\,000 and support youth!
URL:https://www.connectmatsu.org/event/big-bash-mat-su/
END:VEVENT
END:VCALENDAR