BEGIN:VCALENDAR
VERSION:2.0
PRODID:-//Connect Mat-Su - ECPv6.15.20//NONSGML v1.0//EN
CALSCALE:GREGORIAN
METHOD:PUBLISH
X-WR-CALNAME:Connect Mat-Su
X-ORIGINAL-URL:https://www.connectmatsu.org
X-WR-CALDESC:Events for Connect Mat-Su
REFRESH-INTERVAL;VALUE=DURATION:PT1H
X-Robots-Tag:noindex
X-PUBLISHED-TTL:PT1H
BEGIN:VTIMEZONE
TZID:America/Anchorage
BEGIN:DAYLIGHT
TZOFFSETFROM:-0900
TZOFFSETTO:-0800
TZNAME:AKDT
DTSTART:20240310T110000
END:DAYLIGHT
BEGIN:STANDARD
TZOFFSETFROM:-0800
TZOFFSETTO:-0900
TZNAME:AKST
DTSTART:20241103T100000
END:STANDARD
BEGIN:DAYLIGHT
TZOFFSETFROM:-0900
TZOFFSETTO:-0800
TZNAME:AKDT
DTSTART:20250309T110000
END:DAYLIGHT
BEGIN:STANDARD
TZOFFSETFROM:-0800
TZOFFSETTO:-0900
TZNAME:AKST
DTSTART:20251102T100000
END:STANDARD
BEGIN:DAYLIGHT
TZOFFSETFROM:-0900
TZOFFSETTO:-0800
TZNAME:AKDT
DTSTART:20260308T110000
END:DAYLIGHT
BEGIN:STANDARD
TZOFFSETFROM:-0800
TZOFFSETTO:-0900
TZNAME:AKST
DTSTART:20261101T100000
END:STANDARD
END:VTIMEZONE
BEGIN:VEVENT
DTSTART;TZID=America/Anchorage:20250604T110000
DTEND;TZID=America/Anchorage:20250806T150000
DTSTAMP:20260422T081749
CREATED:20250603T173419Z
LAST-MODIFIED:20260309T173755Z
UID:10012480-1749034800-1754492400@www.connectmatsu.org
SUMMARY:2025 Summer Backpack Program
DESCRIPTION:Bags will be available during regular library hours from June 4th to August 6th.
URL:https://www.connectmatsu.org/event/2025-summer-backpack-program/
ATTACH;FMTTYPE=image/jpeg:https://www.connectmatsu.org/wp-content/uploads/2025/06/2025-Summer-Backpack-Program-.jpg
END:VEVENT
BEGIN:VEVENT
DTSTART;TZID=America/Anchorage:20250721T103000
DTEND;TZID=America/Anchorage:20250725T143000
DTSTAMP:20260422T081749
CREATED:20250603T212243Z
LAST-MODIFIED:20250725T222222Z
UID:10012541-1753093800-1753453800@www.connectmatsu.org
SUMMARY:2025 Summer Lunch Distribution
DESCRIPTION:Please see the flyer for the distribution schedule\, times\, and locations. If you are interested in volunteering\, please click the link: https://kidskupboard.cervistech.com/acts/console.php?console_id=0323&console_type=event&ht=1  \nFor additional information\, email operations@kidskupboard.org or call 907-631-2908
URL:https://www.connectmatsu.org/event/2025-summer-lunch-distribution-8/
ATTACH;FMTTYPE=image/jpeg:https://www.connectmatsu.org/wp-content/uploads/2025/06/Summer-Lunch-Distribution-.jpg
END:VEVENT
BEGIN:VEVENT
DTSTART;TZID=America/Anchorage:20250723T090000
DTEND;TZID=America/Anchorage:20250723T103000
DTSTAMP:20260422T081749
CREATED:20250619T194223Z
LAST-MODIFIED:20250723T182240Z
UID:10012565-1753261200-1753266600@www.connectmatsu.org
SUMMARY:2025 Summer Food Service Program- Sutton Elementry
DESCRIPTION:We are providing grap & go meal boxes for those in the community who are 18 and under. Parent/gardian or child must be present to pick up meals
URL:https://www.connectmatsu.org/event/2025-summer-food-service-program-sutton-elementry-3/
END:VEVENT
BEGIN:VEVENT
DTSTART;TZID=America/Anchorage:20250723T120000
DTEND;TZID=America/Anchorage:20250723T140000
DTSTAMP:20260422T081749
CREATED:20250619T194221Z
LAST-MODIFIED:20250723T212214Z
UID:10012556-1753272000-1753279200@www.connectmatsu.org
SUMMARY:2025 Summer Food Service Program- Palmer High School
DESCRIPTION:We are providing grap & go meal boxes for those in the community who are 18 and under. Parent/gardian or child must be present to pick up meals
URL:https://www.connectmatsu.org/event/2025-summer-food-service-program-palmer-high-school-3/
END:VEVENT
BEGIN:VEVENT
DTSTART;TZID=America/Anchorage:20250723T123000
DTEND;TZID=America/Anchorage:20250723T130000
DTSTAMP:20260422T081749
CREATED:20250603T195058Z
LAST-MODIFIED:20260309T173758Z
UID:10012523-1753273800-1753275600@www.connectmatsu.org
SUMMARY:Kids Lunch on the Lawn Upper Susitna Food Pantry
DESCRIPTION:Kids Lunch on the Lawn! Wednesday’s beginning June 4th through August 6th. For more information\, contact: uppersusitnafoodpantry.org or 907-733-3358
URL:https://www.connectmatsu.org/event/kids-lunch-on-the-lawn-upper-susitna-food-pantry-9/
ATTACH;FMTTYPE=image/jpeg:https://www.connectmatsu.org/wp-content/uploads/2025/06/Lunch-on-the-lawn.jpg
END:VEVENT
BEGIN:VEVENT
DTSTART;TZID=America/Anchorage:20250723T170000
DTEND;TZID=America/Anchorage:20250723T190000
DTSTAMP:20260422T081749
CREATED:20250701T195405Z
LAST-MODIFIED:20260309T173839Z
UID:10012580-1753290000-1753297200@www.connectmatsu.org
SUMMARY:Wasilla Wednesday Walkers Group
DESCRIPTION:Join Our Wasilla Wednesday Walkers Group!\nStarting June 4th\, Capstone’s Diabetes & Endocrinology Center is hosting a weekly walkers group to help you take a step toward better health.\n🌟 Led by our Diabetes Educator\n📍 3331 E. Meridian Park Loop\, Wasilla\n📆 Every Wednesday | June 4 – August 27\n🕔 5:00 PM | Meet in the parking lot\nWhether you’re looking to stay active\, meet new people\, or simply enjoy the outdoors\, this is the perfect midweek activity.\n👟 Lace up your sneakers and join us for fun-filled walks and outdoor movement.\n📲 To register\, call (907) 357-2332
URL:https://www.connectmatsu.org/event/wasilla-wednesday-walkers-group/
END:VEVENT
END:VCALENDAR