BEGIN:VCALENDAR
VERSION:2.0
PRODID:-//Connect Mat-Su - ECPv6.15.20//NONSGML v1.0//EN
CALSCALE:GREGORIAN
METHOD:PUBLISH
X-WR-CALNAME:Connect Mat-Su
X-ORIGINAL-URL:https://www.connectmatsu.org
X-WR-CALDESC:Events for Connect Mat-Su
REFRESH-INTERVAL;VALUE=DURATION:PT1H
X-Robots-Tag:noindex
X-PUBLISHED-TTL:PT1H
BEGIN:VTIMEZONE
TZID:America/Anchorage
BEGIN:DAYLIGHT
TZOFFSETFROM:-0900
TZOFFSETTO:-0800
TZNAME:AKDT
DTSTART:20240310T110000
END:DAYLIGHT
BEGIN:STANDARD
TZOFFSETFROM:-0800
TZOFFSETTO:-0900
TZNAME:AKST
DTSTART:20241103T100000
END:STANDARD
BEGIN:DAYLIGHT
TZOFFSETFROM:-0900
TZOFFSETTO:-0800
TZNAME:AKDT
DTSTART:20250309T110000
END:DAYLIGHT
BEGIN:STANDARD
TZOFFSETFROM:-0800
TZOFFSETTO:-0900
TZNAME:AKST
DTSTART:20251102T100000
END:STANDARD
BEGIN:DAYLIGHT
TZOFFSETFROM:-0900
TZOFFSETTO:-0800
TZNAME:AKDT
DTSTART:20260308T110000
END:DAYLIGHT
BEGIN:STANDARD
TZOFFSETFROM:-0800
TZOFFSETTO:-0900
TZNAME:AKST
DTSTART:20261101T100000
END:STANDARD
END:VTIMEZONE
BEGIN:VEVENT
DTSTART;TZID=America/Anchorage:20250604T110000
DTEND;TZID=America/Anchorage:20250806T150000
DTSTAMP:20260422T081712
CREATED:20250603T173419Z
LAST-MODIFIED:20260309T173755Z
UID:10012480-1749034800-1754492400@www.connectmatsu.org
SUMMARY:2025 Summer Backpack Program
DESCRIPTION:Bags will be available during regular library hours from June 4th to August 6th.
URL:https://www.connectmatsu.org/event/2025-summer-backpack-program/
ATTACH;FMTTYPE=image/jpeg:https://www.connectmatsu.org/wp-content/uploads/2025/06/2025-Summer-Backpack-Program-.jpg
END:VEVENT
BEGIN:VEVENT
DTSTART;TZID=America/Anchorage:20250707T103000
DTEND;TZID=America/Anchorage:20250711T143000
DTSTAMP:20260422T081712
CREATED:20250603T212239Z
LAST-MODIFIED:20250711T222248Z
UID:10012536-1751884200-1752244200@www.connectmatsu.org
SUMMARY:2025 Summer Lunch Distribution
DESCRIPTION:Please see the flyer for the distribution schedule\, times\, and locations. If you are interested in volunteering\, please click the link: https://kidskupboard.cervistech.com/acts/console.php?console_id=0323&console_type=event&ht=1  \nFor additional information\, email operations@kidskupboard.org or call 907-631-2908
URL:https://www.connectmatsu.org/event/2025-summer-lunch-distribution-3/
ATTACH;FMTTYPE=image/jpeg:https://www.connectmatsu.org/wp-content/uploads/2025/06/Summer-Lunch-Distribution-.jpg
END:VEVENT
BEGIN:VEVENT
DTSTART;TZID=America/Anchorage:20250710T100000
DTEND;TZID=America/Anchorage:20250710T120000
DTSTAMP:20260422T081712
CREATED:20250501T194744Z
LAST-MODIFIED:20250710T194659Z
UID:10012342-1752141600-1752148800@www.connectmatsu.org
SUMMARY:Circles of Security Parenting Class
DESCRIPTION:Course: Circles of Security Parenting\nParticipant Fee: $75 Due on the first day of class\n# of classes: 8\nWhere: 1825 S Chugach St. Palmer AK 99645 (In-Person)\nWhen: 10:00 AM – 12:00 PM\nProvided:\n1. Workbook\, for homework and class participation\n2. Handouts to enhance the material\nRequirements:\n1. Must complete all 8 classes and homework to receive Certificate of Completion\n2. Permitted to make-up 1 class\, otherwise you will need to join the next scheduled class series\n3. Homework must be complete at the start of each class\nOCS Involvement?\n1. If participation in this class is part of a case plan with the Office of Children Services\, we frequently have case workers submit a purchase authorization to cover the cost of the class\, I recommend reaching out to your case worker to see if this is a possibility.\nFoster Parent?:\n2. Participation in this class may count towards your training requirements \nLearning Objectives\n• Understand your child’s emotional world by learning to read their social and emotional ques\n• Support your child’s ability to successfully manage their emotions\n• Enhance the development of your child’s self-esteem and healthy attachment\n• Honor your innate wisdom and desire for your child to be secure\n• Recognize and manage your own triggers
URL:https://www.connectmatsu.org/event/circles-of-security-parenting-class-2/
ATTACH;FMTTYPE=image/png:https://www.connectmatsu.org/wp-content/uploads/2025/05/AFS-Circles-of-Security.png
END:VEVENT
BEGIN:VEVENT
DTSTART;TZID=America/Anchorage:20250710T110000
DTEND;TZID=America/Anchorage:20250710T130000
DTSTAMP:20260422T081712
CREATED:20250619T194225Z
LAST-MODIFIED:20250710T202216Z
UID:10012574-1752145200-1752152400@www.connectmatsu.org
SUMMARY:2025 Summer Food Service Program- Wasilla Middle School
DESCRIPTION:We are providing grap & go meal boxes for those in the community who are 18 and under. Parent/gardian or child must be present to pick up meals
URL:https://www.connectmatsu.org/event/2025-summer-food-service-program-wasilla-middle-school-6/
END:VEVENT
BEGIN:VEVENT
DTSTART;TZID=America/Anchorage:20250710T120000
DTEND;TZID=America/Anchorage:20250713T120000
DTSTAMP:20260422T081712
CREATED:20250507T203533Z
LAST-MODIFIED:20250713T192233Z
UID:10012429-1752148800-1752408000@www.connectmatsu.org
SUMMARY:Intro To Backpacking Adult Summer Camp
DESCRIPTION:Are you ready to take your first steps into the backcountry? This beginner-friendly course is designed for adults who want to learn the fundamentals of backpacking in a safe and supportive environment. Over the course of a weekend\, you’ll gain hands-on experience with essential skills.
URL:https://www.connectmatsu.org/event/intro-to-backpacking-adult-summer-camp/
ATTACH;FMTTYPE=image/jpeg:https://www.connectmatsu.org/wp-content/uploads/2025/05/MATANUSKA-OUTDOOR-INSTITUTE-11-x-8-in-11-x-8-in-2.jpeg
END:VEVENT
BEGIN:VEVENT
DTSTART;TZID=America/Anchorage:20250710T130000
DTEND;TZID=America/Anchorage:20250710T150000
DTSTAMP:20260422T081712
CREATED:20250708T231009Z
LAST-MODIFIED:20260309T173846Z
UID:10012594-1752152400-1752159600@www.connectmatsu.org
SUMMARY:Tribal Justice Community Forum
DESCRIPTION:Tribal Justice Community Forum\n📅 Thursday\, July 10th\, 2025\n🕐 1–3 PM & 6–8 PM\n📍 Mat-Su Health Foundation\, 1st Floor Conference Rooms – 777 N. Crusey St.\, Wasilla\, AK 99654 \nAll community members are welcome to join this interactive discussion focused on shaping the future of Tribal Justice programs in the Mat-Su Borough. \nThis event includes:\n✔️ An overview of the Knik Tribe’s Tribal Justice System\n✔️ Q&A and brainstorming sessions to help guide future local justice initiatives – Your voice matters! \nLight refreshments provided.\nFor more information\, contact Jessica Svetkovich at 907-982-1495 or kt-doj@kniktribe.org.\n🌐 www.KnikTribe.org
URL:https://www.connectmatsu.org/event/tribal-justice-community-forum-2/
ATTACH;FMTTYPE=image/png:https://www.connectmatsu.org/wp-content/uploads/2025/07/250701_DOJ-Community-Forum_APPROVED.png
END:VEVENT
BEGIN:VEVENT
DTSTART;TZID=America/Anchorage:20250710T140000
DTEND;TZID=America/Anchorage:20250710T160000
DTSTAMP:20260422T081712
CREATED:20250603T181142Z
LAST-MODIFIED:20260309T173756Z
UID:10012500-1752156000-1752163200@www.connectmatsu.org
SUMMARY:Pantry Stocking Needed at Upper Susitna Food Pantry
DESCRIPTION:Pantry Stocking Needed Tuesdays and Thursdays from 2:00-4:00 PM. Please feel free to reach out operations.usfp@gmail.com or 907-733-3348 with additional questions.
URL:https://www.connectmatsu.org/event/pantry-stocking-needed-at-upper-susitna-food-pantry-14/
ATTACH;FMTTYPE=image/jpeg:https://www.connectmatsu.org/wp-content/uploads/2025/06/Volunteer-Opportunities-Susitna-Food-Pantry-.jpg
END:VEVENT
BEGIN:VEVENT
DTSTART;TZID=America/Anchorage:20250710T180000
DTEND;TZID=America/Anchorage:20250710T200000
DTSTAMP:20260422T081712
CREATED:20250708T231008Z
LAST-MODIFIED:20260309T173846Z
UID:10012593-1752170400-1752177600@www.connectmatsu.org
SUMMARY:Tribal Justice Community Forum
DESCRIPTION:Tribal Justice Community Forum\n📅 Thursday\, July 10th\, 2025\n🕐 1–3 PM & 6–8 PM\n📍 Mat-Su Health Foundation\, 1st Floor Conference Rooms – 777 N. Crusey St.\, Wasilla\, AK 99654 \nAll community members are welcome to join this interactive discussion focused on shaping the future of Tribal Justice programs in the Mat-Su Borough. \nThis event includes:\n✔️ An overview of the Knik Tribe’s Tribal Justice System\n✔️ Q&A and brainstorming sessions to help guide future local justice initiatives – Your voice matters! \nLight refreshments provided.\nFor more information\, contact Jessica Svetkovich at 907-982-1495 or kt-doj@kniktribe.org.\n🌐 www.KnikTribe.org
URL:https://www.connectmatsu.org/event/tribal-justice-community-forum/
ATTACH;FMTTYPE=image/png:https://www.connectmatsu.org/wp-content/uploads/2025/07/250701_DOJ-Community-Forum_APPROVED.png
END:VEVENT
END:VCALENDAR