BEGIN:VCALENDAR
VERSION:2.0
PRODID:-//Connect Mat-Su - ECPv6.15.20//NONSGML v1.0//EN
CALSCALE:GREGORIAN
METHOD:PUBLISH
X-WR-CALNAME:Connect Mat-Su
X-ORIGINAL-URL:https://www.connectmatsu.org
X-WR-CALDESC:Events for Connect Mat-Su
REFRESH-INTERVAL;VALUE=DURATION:PT1H
X-Robots-Tag:noindex
X-PUBLISHED-TTL:PT1H
BEGIN:VTIMEZONE
TZID:America/Anchorage
BEGIN:DAYLIGHT
TZOFFSETFROM:-0900
TZOFFSETTO:-0800
TZNAME:AKDT
DTSTART:20240310T110000
END:DAYLIGHT
BEGIN:STANDARD
TZOFFSETFROM:-0800
TZOFFSETTO:-0900
TZNAME:AKST
DTSTART:20241103T100000
END:STANDARD
BEGIN:DAYLIGHT
TZOFFSETFROM:-0900
TZOFFSETTO:-0800
TZNAME:AKDT
DTSTART:20250309T110000
END:DAYLIGHT
BEGIN:STANDARD
TZOFFSETFROM:-0800
TZOFFSETTO:-0900
TZNAME:AKST
DTSTART:20251102T100000
END:STANDARD
BEGIN:DAYLIGHT
TZOFFSETFROM:-0900
TZOFFSETTO:-0800
TZNAME:AKDT
DTSTART:20260308T110000
END:DAYLIGHT
BEGIN:STANDARD
TZOFFSETFROM:-0800
TZOFFSETTO:-0900
TZNAME:AKST
DTSTART:20261101T100000
END:STANDARD
END:VTIMEZONE
BEGIN:VEVENT
DTSTART;TZID=America/Anchorage:20250528T170000
DTEND;TZID=America/Anchorage:20250528T193000
DTSTAMP:20260422T052754
CREATED:20250506T112218Z
LAST-MODIFIED:20260309T173818Z
UID:10012401-1748451600-1748460600@www.connectmatsu.org
SUMMARY:Mat-Su Game Night
DESCRIPTION:Board games\, multi-player card games\, video games\, puzzles and trivia!\nTo register please contact us at 907-357-2588 or email us at info@accessalaska.org
URL:https://www.connectmatsu.org/event/mat-su-game-night-6/
END:VEVENT
BEGIN:VEVENT
DTSTART;TZID=America/Anchorage:20250528T180000
DTEND;TZID=America/Anchorage:20250528T200000
DTSTAMP:20260422T052754
CREATED:20250528T001748Z
LAST-MODIFIED:20260309T173827Z
UID:10012464-1748455200-1748462400@www.connectmatsu.org
SUMMARY:Get Moving Mat-Su Fun Run 2025
DESCRIPTION:Join United Way Mat-Su every Wednesday starting at 6pm for the Get Moving Mat-Su Fun Run\, which gathers at Bearpaw River Brewing Company. \nGet Moving Mat-Su’s mission is to motivate Mat-Su residents to be active\, get moving\, and make new friends\, while supporting local small businesses and youth sports opportunities. \nThis season\, proceeds raised at the Fun Runs will directly benefit United Way of Mat-Su’s programs and services. We are so thankful for this amazing opportunity! UWMS will be set up at all Fun Runs with a resource table and some swag. \nWe invite you come join us for fresh air\, fun and a great chance to support us!
URL:https://www.connectmatsu.org/event/get-moving-mat-su-fun-run-2025-2/
END:VEVENT
END:VCALENDAR