BEGIN:VCALENDAR
VERSION:2.0
PRODID:-//Connect Mat-Su - ECPv6.15.20//NONSGML v1.0//EN
CALSCALE:GREGORIAN
METHOD:PUBLISH
X-WR-CALNAME:Connect Mat-Su
X-ORIGINAL-URL:https://www.connectmatsu.org
X-WR-CALDESC:Events for Connect Mat-Su
REFRESH-INTERVAL;VALUE=DURATION:PT1H
X-Robots-Tag:noindex
X-PUBLISHED-TTL:PT1H
BEGIN:VTIMEZONE
TZID:America/Anchorage
BEGIN:DAYLIGHT
TZOFFSETFROM:-0900
TZOFFSETTO:-0800
TZNAME:AKDT
DTSTART:20230312T110000
END:DAYLIGHT
BEGIN:STANDARD
TZOFFSETFROM:-0800
TZOFFSETTO:-0900
TZNAME:AKST
DTSTART:20231105T100000
END:STANDARD
BEGIN:DAYLIGHT
TZOFFSETFROM:-0900
TZOFFSETTO:-0800
TZNAME:AKDT
DTSTART:20240310T110000
END:DAYLIGHT
BEGIN:STANDARD
TZOFFSETFROM:-0800
TZOFFSETTO:-0900
TZNAME:AKST
DTSTART:20241103T100000
END:STANDARD
BEGIN:DAYLIGHT
TZOFFSETFROM:-0900
TZOFFSETTO:-0800
TZNAME:AKDT
DTSTART:20250309T110000
END:DAYLIGHT
BEGIN:STANDARD
TZOFFSETFROM:-0800
TZOFFSETTO:-0900
TZNAME:AKST
DTSTART:20251102T100000
END:STANDARD
END:VTIMEZONE
BEGIN:VEVENT
DTSTART;TZID=America/Anchorage:20241224T100000
DTEND;TZID=America/Anchorage:20241224T130000
DTSTAMP:20260424T060905
CREATED:20241003T132227Z
LAST-MODIFIED:20241224T212216Z
UID:10010873-1735034400-1735045200@www.connectmatsu.org
SUMMARY:The Christmas Factory
DESCRIPTION:Every ticket includes the FULL experience and will create magical memories that will last a LIFETIME. Ticket prices include:\nHot Chocolate\, Cookie\, Digital Photo with Santa\, Toy Room Keepsake\,  Naughty Nice Certificate\, Make a Wish on The Wishing Tree\, and so much more. \nThere are NO EXTRA charges. \nEvery tour is approximately one hour long. \nGeneral Admission For All Ages. (3-103)\nDAYTIME TOUR $32 / EVENING TOUR $35 Per Person*. \n*Children 2 years of age and under are free when accompanied by an adult.\n*All children MUST be accompanied by an adult.\n*All tours are handicap accessible.\n*Baby carriers are recommended over strollers.\n*Each tour time has a maximum capacity of 25 tickets.\n*All sales are final\, if you miss your tour time or are late\, we cannot refund you. If you call 48 hours in advance to reschedule\, and we have open slots on another day\, you may be able to move your ticket\, but openings are not guaranteed. \nPlease remember\, tours take place indoors with small transitions from buildings. Guests will need to dress accordingly.
URL:https://www.connectmatsu.org/event/the-christmas-factory-14/
END:VEVENT
BEGIN:VEVENT
DTSTART;TZID=America/Anchorage:20241224T170000
DTEND;TZID=America/Anchorage:20241224T210000
DTSTAMP:20260424T060905
CREATED:20241021T194155Z
LAST-MODIFIED:20241225T052215Z
UID:10010977-1735059600-1735074000@www.connectmatsu.org
SUMMARY:Bright Up The Night
DESCRIPTION:Drive through a dazzling light exhibit spanning the length of the fairgrounds and featuring over 70 displays! Half of the displays are new and bigger this year!\nFee’s if purchased in advance-Standard Vehicle $20\, Van’s or limos (9+ people) $35 and Buses $70\nNov 28th -Dec 8th Thursday -Sunday 5PM-9PM\nDec 12th-Dec 31 Everyday 5PM to 9PM
URL:https://www.connectmatsu.org/event/bright-up-the-night-27/
ATTACH;FMTTYPE=image/jpeg:https://www.connectmatsu.org/wp-content/uploads/2024/10/0accbba6-b58e-41cc-bed5-8e9e0447fc7a.jpg
END:VEVENT
END:VCALENDAR