BEGIN:VCALENDAR
VERSION:2.0
PRODID:-//Connect Mat-Su - ECPv6.15.20//NONSGML v1.0//EN
CALSCALE:GREGORIAN
METHOD:PUBLISH
X-ORIGINAL-URL:https://www.connectmatsu.org
X-WR-CALDESC:Events for Connect Mat-Su
REFRESH-INTERVAL;VALUE=DURATION:PT1H
X-Robots-Tag:noindex
X-PUBLISHED-TTL:PT1H
BEGIN:VTIMEZONE
TZID:America/Anchorage
BEGIN:DAYLIGHT
TZOFFSETFROM:-0900
TZOFFSETTO:-0800
TZNAME:AKDT
DTSTART:20230312T110000
END:DAYLIGHT
BEGIN:STANDARD
TZOFFSETFROM:-0800
TZOFFSETTO:-0900
TZNAME:AKST
DTSTART:20231105T100000
END:STANDARD
BEGIN:DAYLIGHT
TZOFFSETFROM:-0900
TZOFFSETTO:-0800
TZNAME:AKDT
DTSTART:20240310T110000
END:DAYLIGHT
BEGIN:STANDARD
TZOFFSETFROM:-0800
TZOFFSETTO:-0900
TZNAME:AKST
DTSTART:20241103T100000
END:STANDARD
BEGIN:DAYLIGHT
TZOFFSETFROM:-0900
TZOFFSETTO:-0800
TZNAME:AKDT
DTSTART:20250309T110000
END:DAYLIGHT
BEGIN:STANDARD
TZOFFSETFROM:-0800
TZOFFSETTO:-0900
TZNAME:AKST
DTSTART:20251102T100000
END:STANDARD
END:VTIMEZONE
BEGIN:VEVENT
DTSTART;TZID=America/Anchorage:20240930T110000
DTEND;TZID=America/Anchorage:20240930T130000
DTSTAMP:20260422T111846
CREATED:20240927T142210Z
LAST-MODIFIED:20260309T173727Z
UID:10010793-1727694000-1727701200@www.connectmatsu.org
SUMMARY:Social Security Solutions
DESCRIPTION:Learn how to navigate the system\, maximize your benefits\, and take control of your financial future.\nThis workshop provides essential tools and expert guidance for making informed decisions about your Social Security.\nBimonthly event\nSee Flyer for more information
URL:https://www.connectmatsu.org/event/social-security-solutions/
ATTACH;FMTTYPE=image/png:https://www.connectmatsu.org/wp-content/uploads/2024/09/1727453136070-c1068d05-d180-4007-866d-c4616e70a249_1.png
END:VEVENT
END:VCALENDAR