BEGIN:VCALENDAR
VERSION:2.0
PRODID:-//Connect Mat-Su - ECPv6.15.20//NONSGML v1.0//EN
CALSCALE:GREGORIAN
METHOD:PUBLISH
X-ORIGINAL-URL:https://www.connectmatsu.org
X-WR-CALDESC:Events for Connect Mat-Su
REFRESH-INTERVAL;VALUE=DURATION:PT1H
X-Robots-Tag:noindex
X-PUBLISHED-TTL:PT1H
BEGIN:VTIMEZONE
TZID:America/Anchorage
BEGIN:DAYLIGHT
TZOFFSETFROM:-0900
TZOFFSETTO:-0800
TZNAME:AKDT
DTSTART:20230312T110000
END:DAYLIGHT
BEGIN:STANDARD
TZOFFSETFROM:-0800
TZOFFSETTO:-0900
TZNAME:AKST
DTSTART:20231105T100000
END:STANDARD
BEGIN:DAYLIGHT
TZOFFSETFROM:-0900
TZOFFSETTO:-0800
TZNAME:AKDT
DTSTART:20240310T110000
END:DAYLIGHT
BEGIN:STANDARD
TZOFFSETFROM:-0800
TZOFFSETTO:-0900
TZNAME:AKST
DTSTART:20241103T100000
END:STANDARD
BEGIN:DAYLIGHT
TZOFFSETFROM:-0900
TZOFFSETTO:-0800
TZNAME:AKDT
DTSTART:20250309T110000
END:DAYLIGHT
BEGIN:STANDARD
TZOFFSETFROM:-0800
TZOFFSETTO:-0900
TZNAME:AKST
DTSTART:20251102T100000
END:STANDARD
END:VTIMEZONE
BEGIN:VEVENT
DTSTART;TZID=America/Anchorage:20240913T103000
DTEND;TZID=America/Anchorage:20240913T174500
DTSTAMP:20260422T111232
CREATED:20240911T222058Z
LAST-MODIFIED:20260309T173752Z
UID:10010752-1726223400-1726249500@www.connectmatsu.org
SUMMARY:Wasilla Public Library Used Book Super Sale
DESCRIPTION:Join us for the annual Used Book Super Sale\, running for three days at the Library. The sale runs Friday\, Saturday\, and Monday inside the Library’s multi-purpose room and outside in the library’s amphitheater. $5.00 per bag of books\, cash or check only.
URL:https://www.connectmatsu.org/event/wasilla-public-library-used-book-super-sale-3/
END:VEVENT
END:VCALENDAR