BEGIN:VCALENDAR
VERSION:2.0
PRODID:-//Connect Mat-Su - ECPv6.15.20//NONSGML v1.0//EN
CALSCALE:GREGORIAN
METHOD:PUBLISH
X-ORIGINAL-URL:https://www.connectmatsu.org
X-WR-CALDESC:Events for Connect Mat-Su
REFRESH-INTERVAL;VALUE=DURATION:PT1H
X-Robots-Tag:noindex
X-PUBLISHED-TTL:PT1H
BEGIN:VTIMEZONE
TZID:America/Anchorage
BEGIN:DAYLIGHT
TZOFFSETFROM:-0900
TZOFFSETTO:-0800
TZNAME:AKDT
DTSTART:20230312T110000
END:DAYLIGHT
BEGIN:STANDARD
TZOFFSETFROM:-0800
TZOFFSETTO:-0900
TZNAME:AKST
DTSTART:20231105T100000
END:STANDARD
BEGIN:DAYLIGHT
TZOFFSETFROM:-0900
TZOFFSETTO:-0800
TZNAME:AKDT
DTSTART:20240310T110000
END:DAYLIGHT
BEGIN:STANDARD
TZOFFSETFROM:-0800
TZOFFSETTO:-0900
TZNAME:AKST
DTSTART:20241103T100000
END:STANDARD
BEGIN:DAYLIGHT
TZOFFSETFROM:-0900
TZOFFSETTO:-0800
TZNAME:AKDT
DTSTART:20250309T110000
END:DAYLIGHT
BEGIN:STANDARD
TZOFFSETFROM:-0800
TZOFFSETTO:-0900
TZNAME:AKST
DTSTART:20251102T100000
END:STANDARD
END:VTIMEZONE
BEGIN:VEVENT
DTSTART;TZID=America/Anchorage:20240806T170000
DTEND;TZID=America/Anchorage:20240806T190000
DTSTAMP:20260422T082354
CREATED:20240730T235805Z
LAST-MODIFIED:20240807T022209Z
UID:10010445-1722963600-1722970800@www.connectmatsu.org
SUMMARY:Caregivers Party in the Park
DESCRIPTION:We are celebrating Alaska caregivers and all you do with our fourth annual party in the park! RSVP to save your spot using this link: https://akcaregiverparty.paperform.co/\nWe’ll have free food trucks\, a DJ a selfie station\, and more! Caregivers\, your clients\, and your family are all invited.\nWhen: Tuesday\, August 6\, 5-7 p.m.\nWhere: Palmer Train Depot\nPlease contact 907-350-0486 for more information
URL:https://www.connectmatsu.org/event/caregivers-party-in-the-park/
ATTACH;FMTTYPE=image/png:https://www.connectmatsu.org/wp-content/uploads/2024/07/Caregiver-party-in-the-park.png
END:VEVENT
END:VCALENDAR