BEGIN:VCALENDAR
VERSION:2.0
PRODID:-//Connect Mat-Su - ECPv6.15.20//NONSGML v1.0//EN
CALSCALE:GREGORIAN
METHOD:PUBLISH
X-WR-CALNAME:Connect Mat-Su
X-ORIGINAL-URL:https://www.connectmatsu.org
X-WR-CALDESC:Events for Connect Mat-Su
REFRESH-INTERVAL;VALUE=DURATION:PT1H
X-Robots-Tag:noindex
X-PUBLISHED-TTL:PT1H
BEGIN:VTIMEZONE
TZID:America/Anchorage
BEGIN:DAYLIGHT
TZOFFSETFROM:-0900
TZOFFSETTO:-0800
TZNAME:AKDT
DTSTART:20230312T110000
END:DAYLIGHT
BEGIN:STANDARD
TZOFFSETFROM:-0800
TZOFFSETTO:-0900
TZNAME:AKST
DTSTART:20231105T100000
END:STANDARD
BEGIN:DAYLIGHT
TZOFFSETFROM:-0900
TZOFFSETTO:-0800
TZNAME:AKDT
DTSTART:20240310T110000
END:DAYLIGHT
BEGIN:STANDARD
TZOFFSETFROM:-0800
TZOFFSETTO:-0900
TZNAME:AKST
DTSTART:20241103T100000
END:STANDARD
BEGIN:DAYLIGHT
TZOFFSETFROM:-0900
TZOFFSETTO:-0800
TZNAME:AKDT
DTSTART:20250309T110000
END:DAYLIGHT
BEGIN:STANDARD
TZOFFSETFROM:-0800
TZOFFSETTO:-0900
TZNAME:AKST
DTSTART:20251102T100000
END:STANDARD
END:VTIMEZONE
BEGIN:VEVENT
DTSTART;TZID=America/Anchorage:20240120T120000
DTEND;TZID=America/Anchorage:20240203T120000
DTSTAMP:20260422T054333
CREATED:20240130T181141Z
LAST-MODIFIED:20260309T173827Z
UID:10010074-1705752000-1706961600@www.connectmatsu.org
SUMMARY:Spin for Health Care- Virtual Event
DESCRIPTION:We hope we can count on you to participate in the 14th annual fundraiser – Revolutions- Spin for Health Care 2024! \nYour support brings life-changing donated specialty medical\, dental\, and mental health care services to Alaskans with low income and without health insurance. \nWith your support\, we can help thousands of Alaskans access DONATED specialty healthcare available only through Anchorage Project Access’ (APA’s) healthcare partnerships!
URL:https://www.connectmatsu.org/event/spin-for-health-care-virtual-event/
ATTACH;FMTTYPE=image/png:https://www.connectmatsu.org/wp-content/uploads/2024/01/REVOLUTIONS_LOGO_2024_Transparent.png
END:VEVENT
BEGIN:VEVENT
DTSTART;TZID=America/Anchorage:20240130T080000
DTEND;TZID=America/Anchorage:20240201T170000
DTSTAMP:20260422T054333
CREATED:20240130T191532Z
LAST-MODIFIED:20240202T012207Z
UID:10010078-1706601600-1706806800@www.connectmatsu.org
SUMMARY:2024 ALPHA Health Summit
DESCRIPTION:The 2024 Summit theme will be a grand celebration of 50 years of the Association’s pursuit to advance the health of Alaskans and Alaska. The Summit will offer space for us to reflect on the accomplishments and impact of the Association as well as outlining a vision for the next half century. Featuring nationally-known keynote speakers\, professional development opportunities\, and the latest work of your public health colleagues from the UA system\, the Alaska Department of Health\, and other Alaska health and social service organizations through interactive sessions\, posters\, and our new lighting-round talks. Sessions address a wide variety of important focal areas including:\nClimate & Environment\nHealth Equity\nPublic Heath Infrastructure\nPublic Health Programming\nSexual Health & Wellness\nRebuilding Trust in Public Health\nAs always\, health professionals who attend will have the opportunity to earn continuing education credits.\nTo register please visit: https://www.alaskapublichealth.org/health-summit
URL:https://www.connectmatsu.org/event/2024-alpha-health-summit/
ATTACH;FMTTYPE=image/jpeg:https://www.connectmatsu.org/wp-content/uploads/2024/01/ALPHA-Health-Summit.jpg
END:VEVENT
BEGIN:VEVENT
DTSTART;TZID=America/Anchorage:20240131T120000
DTEND;TZID=America/Anchorage:20240204T160000
DTSTAMP:20260422T054333
CREATED:20240130T181146Z
LAST-MODIFIED:20240205T002207Z
UID:10010077-1706702400-1707062400@www.connectmatsu.org
SUMMARY:2024 Talkeetna Ice Festival
DESCRIPTION:The 3rd Annual Talkeetna Ice Festival will be the best one yet! Starting Wednesday\, January 31st with the Ice Carving Competition\, this year’s event has expanded and includes an incredible 5 days of activities and events for the whole family to enjoy! \nAs part of the Ice Festival activities\, the Talkeetna Art Walk will be Friday\, February 2nd\, from 3pm to 6pm with over a dozen participating businesses. The Art Walk ends at the Sheldon Community Arts Hangar with a fire spinning show and free concert featuring Talkeetna favorite band\, Ice Jam. \nSaturday\, February 3rd\, the fun continues in downtown Talkeetna. Vote on your favorite sculpture\, enjoy ice carving demonstrations\, kids games\, the Dog Keg Pull\, tandem ski race\, and more! \nSunday\, February 4th we will round out the Talkeetna Ice Festival with the Frozen Basil Poker Ski Race. This is a fun\, all ages ski ‘race’.  There will also be a pond hockey style hockey tournament at the Jack MacDonald Ice Rink at Talkeetna Elementary School.
URL:https://www.connectmatsu.org/event/2024-talkeetna-ice-festival/
ATTACH;FMTTYPE=image/jpeg:https://www.connectmatsu.org/wp-content/uploads/2024/01/2024-Ice-Festival-Event-Flyer-scaled-1.jpg
END:VEVENT
BEGIN:VEVENT
DTSTART;TZID=America/Anchorage:20240201T120000
DTEND;TZID=America/Anchorage:20240201T140000
DTSTAMP:20260422T054333
CREATED:20230908T002234Z
LAST-MODIFIED:20231031T221257Z
UID:10009777-1706788800-1706796000@www.connectmatsu.org
SUMMARY:Knik Tribe Talking Circle- Willow
DESCRIPTION:Based on the traditional way of communication\, the talking circle provides a space for sharing\, healing\, and connecting with others.
URL:https://www.connectmatsu.org/event/knik-tribe-talking-circle-willow-3/2024-02-01/
ATTACH;FMTTYPE=image/png:https://www.connectmatsu.org/wp-content/uploads/2023/09/TalkingCircleWillow.png
END:VEVENT
END:VCALENDAR