BEGIN:VCALENDAR
VERSION:2.0
PRODID:-//Connect Mat-Su - ECPv6.15.20//NONSGML v1.0//EN
CALSCALE:GREGORIAN
METHOD:PUBLISH
X-ORIGINAL-URL:https://www.connectmatsu.org
X-WR-CALDESC:Events for Connect Mat-Su
REFRESH-INTERVAL;VALUE=DURATION:PT1H
X-Robots-Tag:noindex
X-PUBLISHED-TTL:PT1H
BEGIN:VTIMEZONE
TZID:America/Anchorage
BEGIN:DAYLIGHT
TZOFFSETFROM:-0900
TZOFFSETTO:-0800
TZNAME:AKDT
DTSTART:20230312T110000
END:DAYLIGHT
BEGIN:STANDARD
TZOFFSETFROM:-0800
TZOFFSETTO:-0900
TZNAME:AKST
DTSTART:20231105T100000
END:STANDARD
BEGIN:DAYLIGHT
TZOFFSETFROM:-0900
TZOFFSETTO:-0800
TZNAME:AKDT
DTSTART:20240310T110000
END:DAYLIGHT
BEGIN:STANDARD
TZOFFSETFROM:-0800
TZOFFSETTO:-0900
TZNAME:AKST
DTSTART:20241103T100000
END:STANDARD
BEGIN:DAYLIGHT
TZOFFSETFROM:-0900
TZOFFSETTO:-0800
TZNAME:AKDT
DTSTART:20250309T110000
END:DAYLIGHT
BEGIN:STANDARD
TZOFFSETFROM:-0800
TZOFFSETTO:-0900
TZNAME:AKST
DTSTART:20251102T100000
END:STANDARD
END:VTIMEZONE
BEGIN:VEVENT
DTSTART;TZID=America/Anchorage:20240120T120000
DTEND;TZID=America/Anchorage:20240203T120000
DTSTAMP:20260422T055015
CREATED:20240130T181141Z
LAST-MODIFIED:20260309T173827Z
UID:10010074-1705752000-1706961600@www.connectmatsu.org
SUMMARY:Spin for Health Care- Virtual Event
DESCRIPTION:We hope we can count on you to participate in the 14th annual fundraiser – Revolutions- Spin for Health Care 2024! \nYour support brings life-changing donated specialty medical\, dental\, and mental health care services to Alaskans with low income and without health insurance. \nWith your support\, we can help thousands of Alaskans access DONATED specialty healthcare available only through Anchorage Project Access’ (APA’s) healthcare partnerships!
URL:https://www.connectmatsu.org/event/spin-for-health-care-virtual-event/
ATTACH;FMTTYPE=image/png:https://www.connectmatsu.org/wp-content/uploads/2024/01/REVOLUTIONS_LOGO_2024_Transparent.png
END:VEVENT
END:VCALENDAR