BEGIN:VCALENDAR
VERSION:2.0
PRODID:-//Connect Mat-Su - ECPv6.15.20//NONSGML v1.0//EN
CALSCALE:GREGORIAN
METHOD:PUBLISH
X-WR-CALNAME:Connect Mat-Su
X-ORIGINAL-URL:https://www.connectmatsu.org
X-WR-CALDESC:Events for Connect Mat-Su
REFRESH-INTERVAL;VALUE=DURATION:PT1H
X-Robots-Tag:noindex
X-PUBLISHED-TTL:PT1H
BEGIN:VTIMEZONE
TZID:America/Anchorage
BEGIN:DAYLIGHT
TZOFFSETFROM:-0900
TZOFFSETTO:-0800
TZNAME:AKDT
DTSTART:20230312T110000
END:DAYLIGHT
BEGIN:STANDARD
TZOFFSETFROM:-0800
TZOFFSETTO:-0900
TZNAME:AKST
DTSTART:20231105T100000
END:STANDARD
BEGIN:DAYLIGHT
TZOFFSETFROM:-0900
TZOFFSETTO:-0800
TZNAME:AKDT
DTSTART:20240310T110000
END:DAYLIGHT
BEGIN:STANDARD
TZOFFSETFROM:-0800
TZOFFSETTO:-0900
TZNAME:AKST
DTSTART:20241103T100000
END:STANDARD
BEGIN:DAYLIGHT
TZOFFSETFROM:-0900
TZOFFSETTO:-0800
TZNAME:AKDT
DTSTART:20250309T110000
END:DAYLIGHT
BEGIN:STANDARD
TZOFFSETFROM:-0800
TZOFFSETTO:-0900
TZNAME:AKST
DTSTART:20251102T100000
END:STANDARD
END:VTIMEZONE
BEGIN:VEVENT
DTSTART;TZID=America/Anchorage:20240109T173000
DTEND;TZID=America/Anchorage:20240109T190000
DTSTAMP:20260422T054903
CREATED:20240103T192210Z
LAST-MODIFIED:20240110T032208Z
UID:10010023-1704821400-1704826800@www.connectmatsu.org
SUMMARY:Caregiver Networking & Support Group
DESCRIPTION:Join your fellow Direct Care Providers for networking and unguided conversation about your profession and the challenges presented. ✨Special Guest Bio Below!✨\nPotential Topics:\nClient Boundaries\nSecondary Consumers\nActivity Ideas with Clients\n✨✨SPECIAL GUEST! Derek Keener\, MS\, Trauma Therapist\, is a combat veteran with 23 years in the military who now serves people in a mental health capacity. He has been working in the mental health field for the last five years with a focus in trauma therapy. He specializes in sexual assault\, domestic violence\, and attachment trauma. He will be attending the event as a professional in the field and available for questions and ideas to help you better care for your clients!\n*BBB is a female\, disabled veteran owned business. We exclusively hire homeless youth from the community. We’re the only bookbinder in the state. We love the diversity in our community and we hope the bookstore reflects it ALL in kind.
URL:https://www.connectmatsu.org/event/caregiver-networking-support-group/
ATTACH;FMTTYPE=image/jpeg:https://www.connectmatsu.org/wp-content/uploads/2024/01/Caregiver-Support.jpg
END:VEVENT
END:VCALENDAR