BEGIN:VCALENDAR
VERSION:2.0
PRODID:-//Connect Mat-Su - ECPv6.15.20//NONSGML v1.0//EN
CALSCALE:GREGORIAN
METHOD:PUBLISH
X-WR-CALNAME:Connect Mat-Su
X-ORIGINAL-URL:https://www.connectmatsu.org
X-WR-CALDESC:Events for Connect Mat-Su
REFRESH-INTERVAL;VALUE=DURATION:PT1H
X-Robots-Tag:noindex
X-PUBLISHED-TTL:PT1H
BEGIN:VTIMEZONE
TZID:America/Anchorage
BEGIN:DAYLIGHT
TZOFFSETFROM:-0900
TZOFFSETTO:-0800
TZNAME:AKDT
DTSTART:20220313T110000
END:DAYLIGHT
BEGIN:STANDARD
TZOFFSETFROM:-0800
TZOFFSETTO:-0900
TZNAME:AKST
DTSTART:20221106T100000
END:STANDARD
BEGIN:DAYLIGHT
TZOFFSETFROM:-0900
TZOFFSETTO:-0800
TZNAME:AKDT
DTSTART:20230312T110000
END:DAYLIGHT
BEGIN:STANDARD
TZOFFSETFROM:-0800
TZOFFSETTO:-0900
TZNAME:AKST
DTSTART:20231105T100000
END:STANDARD
BEGIN:DAYLIGHT
TZOFFSETFROM:-0900
TZOFFSETTO:-0800
TZNAME:AKDT
DTSTART:20240310T110000
END:DAYLIGHT
BEGIN:STANDARD
TZOFFSETFROM:-0800
TZOFFSETTO:-0900
TZNAME:AKST
DTSTART:20241103T100000
END:STANDARD
END:VTIMEZONE
BEGIN:VEVENT
DTSTART;TZID=America/Anchorage:20231104T110000
DTEND;TZID=America/Anchorage:20231105T170000
DTSTAMP:20260423T050550
CREATED:20231031T232208Z
LAST-MODIFIED:20260309T173858Z
UID:10009951-1699095600-1699203600@www.connectmatsu.org
SUMMARY:2023 Mat-Su Holiday Market
DESCRIPTION:The Mat-Su Holiday Marketplace is a one stop holiday shopping extravaganza for Wasilla and the Mat-Su Valley. This event takes place at the Menard Sports Center (44 mile Parks Highway) and gives the area an opportunity to shop for unique and one of a kind gifts\, right in their neighborhood\, without that long commute to Anchorage.\n​\nArtists and craftsmen will fill over 100 mini specialty shops with literally thousands of holiday gift ideas. Jewelry\, furs\, original artwork\, fleece\, pottery\, etched glassware… you’ll find unique items from all around the state. No need to waste a tank of gas looking for the perfect gift! Make Santa proud this year and get all of your holiday shopping done in one warm location with lots of EASY… FREE… parking at the Mat-Su Holiday Marketplace.\nThere is a $5 admission charge\, kids 12 and under are free\, and Sunday is free to Military with ID or anyone who brings 2 cans of food for a local food bank.\nSaturday 10am-5pm\nSunday 11am-5pm
URL:https://www.connectmatsu.org/event/2023-mat-su-holiday-market/
ATTACH;FMTTYPE=image/jpeg:https://www.connectmatsu.org/wp-content/uploads/2023/10/2023-Holiday-Market.jpg
END:VEVENT
END:VCALENDAR