BEGIN:VCALENDAR
VERSION:2.0
PRODID:-//Connect Mat-Su - ECPv6.15.20//NONSGML v1.0//EN
CALSCALE:GREGORIAN
METHOD:PUBLISH
X-WR-CALNAME:Connect Mat-Su
X-ORIGINAL-URL:https://www.connectmatsu.org
X-WR-CALDESC:Events for Connect Mat-Su
REFRESH-INTERVAL;VALUE=DURATION:PT1H
X-Robots-Tag:noindex
X-PUBLISHED-TTL:PT1H
BEGIN:VTIMEZONE
TZID:America/Anchorage
BEGIN:DAYLIGHT
TZOFFSETFROM:-0900
TZOFFSETTO:-0800
TZNAME:AKDT
DTSTART:20220313T110000
END:DAYLIGHT
BEGIN:STANDARD
TZOFFSETFROM:-0800
TZOFFSETTO:-0900
TZNAME:AKST
DTSTART:20221106T100000
END:STANDARD
BEGIN:DAYLIGHT
TZOFFSETFROM:-0900
TZOFFSETTO:-0800
TZNAME:AKDT
DTSTART:20230312T110000
END:DAYLIGHT
BEGIN:STANDARD
TZOFFSETFROM:-0800
TZOFFSETTO:-0900
TZNAME:AKST
DTSTART:20231105T100000
END:STANDARD
BEGIN:DAYLIGHT
TZOFFSETFROM:-0900
TZOFFSETTO:-0800
TZNAME:AKDT
DTSTART:20240310T110000
END:DAYLIGHT
BEGIN:STANDARD
TZOFFSETFROM:-0800
TZOFFSETTO:-0900
TZNAME:AKST
DTSTART:20241103T100000
END:STANDARD
END:VTIMEZONE
BEGIN:VEVENT
DTSTART;TZID=America/Anchorage:20231010T180000
DTEND;TZID=America/Anchorage:20231010T190000
DTSTAMP:20260423T065027
CREATED:20230912T202226Z
LAST-MODIFIED:20231011T022207Z
UID:10009384-1696960800-1696964400@www.connectmatsu.org
SUMMARY:Beginner ASL Class
DESCRIPTION:Join us every Tuesday evening from 5 Sept through 24 Oct from 6pm to 7pm for our beginner American Sign Language class! *$10 per person per class* \nGeraldine Klapak will be your instructor for the class. She is a deaf woman who is experienced in tutoring and teaching ASL. She will be joined by Amy Rosemarie who will be assisting. \n*BBB is a female disabled veteran owned business who exclusively hires homeless youth from the community. We are the only bookbinder in the state. All people are welcome here and events are scheduled by request. Our facility is fully handicap accessible.
URL:https://www.connectmatsu.org/event/beginner-asl-class-5/
ATTACH;FMTTYPE=image/png:https://www.connectmatsu.org/wp-content/uploads/2023/09/ASL-Classes.png
END:VEVENT
BEGIN:VEVENT
DTSTART;TZID=America/Anchorage:20231010T183000
DTEND;TZID=America/Anchorage:20231010T200000
DTSTAMP:20260423T065027
CREATED:20230908T002233Z
LAST-MODIFIED:20231011T032209Z
UID:10009371-1696962600-1696968000@www.connectmatsu.org
SUMMARY:Knik Tribe Talking Circle- Palmer
DESCRIPTION:Based on the traditional way of communication\, the talking circle provides a space for sharing\, healing\, and connecting with others.
URL:https://www.connectmatsu.org/event/knik-tribe-talking-circle-palmer/
ATTACH;FMTTYPE=image/png:https://www.connectmatsu.org/wp-content/uploads/2023/09/Talking-Cirle-MTLCTuesdays.png
END:VEVENT
END:VCALENDAR