BEGIN:VCALENDAR
VERSION:2.0
PRODID:-//Connect Mat-Su - ECPv6.15.20//NONSGML v1.0//EN
CALSCALE:GREGORIAN
METHOD:PUBLISH
X-ORIGINAL-URL:https://www.connectmatsu.org
X-WR-CALDESC:Events for Connect Mat-Su
REFRESH-INTERVAL;VALUE=DURATION:PT1H
X-Robots-Tag:noindex
X-PUBLISHED-TTL:PT1H
BEGIN:VTIMEZONE
TZID:America/Anchorage
BEGIN:DAYLIGHT
TZOFFSETFROM:-0900
TZOFFSETTO:-0800
TZNAME:AKDT
DTSTART:20220313T110000
END:DAYLIGHT
BEGIN:STANDARD
TZOFFSETFROM:-0800
TZOFFSETTO:-0900
TZNAME:AKST
DTSTART:20221106T100000
END:STANDARD
BEGIN:DAYLIGHT
TZOFFSETFROM:-0900
TZOFFSETTO:-0800
TZNAME:AKDT
DTSTART:20230312T110000
END:DAYLIGHT
BEGIN:STANDARD
TZOFFSETFROM:-0800
TZOFFSETTO:-0900
TZNAME:AKST
DTSTART:20231105T100000
END:STANDARD
BEGIN:DAYLIGHT
TZOFFSETFROM:-0900
TZOFFSETTO:-0800
TZNAME:AKDT
DTSTART:20240310T110000
END:DAYLIGHT
BEGIN:STANDARD
TZOFFSETFROM:-0800
TZOFFSETTO:-0900
TZNAME:AKST
DTSTART:20241103T100000
END:STANDARD
END:VTIMEZONE
BEGIN:VEVENT
DTSTART;TZID=America/Anchorage:20230928T110000
DTEND;TZID=America/Anchorage:20230928T120000
DTSTAMP:20260423T073314
CREATED:20230531T202210Z
LAST-MODIFIED:20260309T173737Z
UID:10009274-1695898800-1695902400@www.connectmatsu.org
SUMMARY:Training | Raising Resilience (In-Person Only)
DESCRIPTION:Join us for a presentation on raising resilient youth! \nRegistration is not required. \nThis will include information from a 2019 Johns Hopkins study on the effects of positive childhood experiences. Despite growing up with adversity\, positive experiences buffer the trauma and promote healing. \nLearn ways to foster healthy growth and development in children that correlates to stronger adult mental health and overall wellness.  \nQuestions? \nPresentation Content Contact: michelle.boyden@matsuk12.us \nR.O.C.K. Mat-Su Contact:\ncandrews@rockmatsu.org
URL:https://www.connectmatsu.org/event/training-raising-resilience-in-person-only-3/
ATTACH;FMTTYPE=image/jpeg:https://www.connectmatsu.org/wp-content/uploads/2022/09/73caac3d-8a8b-4c65-9c82-490f77d4685d.jpg
END:VEVENT
BEGIN:VEVENT
DTSTART;TZID=America/Anchorage:20230928T120000
DTEND;TZID=America/Anchorage:20230928T140000
DTSTAMP:20260423T073314
CREATED:20230823T212212Z
LAST-MODIFIED:20230928T212210Z
UID:10009337-1695902400-1695909600@www.connectmatsu.org
SUMMARY:Knik Tribe Talking Circle- Willow
DESCRIPTION:Based on the traditional way of communication\, the talking circle provides a space for sharing\, healing\, and connecting with others.
URL:https://www.connectmatsu.org/event/mat-su-reentry-coalition-talking-circle-willow-7/
ATTACH;FMTTYPE=image/png:https://www.connectmatsu.org/wp-content/uploads/2023/09/TalkingCircleWillow.png
END:VEVENT
BEGIN:VEVENT
DTSTART;TZID=America/Anchorage:20230928T140000
DTEND;TZID=America/Anchorage:20230928T160000
DTSTAMP:20260423T073314
CREATED:20230925T181251Z
LAST-MODIFIED:20260309T173744Z
UID:10009398-1695909600-1695916800@www.connectmatsu.org
SUMMARY:4th Annual Trunk or Treat
DESCRIPTION:Please join us for our 4th annual trunk or treat. This has been a hit each year with lines about a 1/4 mile long and we can’t wait to do it again. If you are interested in participating too\, please reach out to Kaitlyn@insuredbykaitlyn.com
URL:https://www.connectmatsu.org/event/4th-annual-trunk-or-treat/
END:VEVENT
BEGIN:VEVENT
DTSTART;TZID=America/Anchorage:20230928T160000
DTEND;TZID=America/Anchorage:20230928T200000
DTSTAMP:20260423T073314
CREATED:20230922T182559Z
LAST-MODIFIED:20230922T182559Z
UID:10009394-1695916800-1695931200@www.connectmatsu.org
SUMMARY:Community Conversations - Palmer
DESCRIPTION:Where do you see opportunity for the Mat-Su Health Foundation to better support your community?\nJoin us for a series of Community Conversations\, platforms for community stakeholders to share their thoughts\, concerns\, and suggestions with us. We encourage you to actively participate in the upcoming session closest to the community you call home\, and we look forward to building stronger connections with each of you.\n\nThis page is for the Palmer session\, which will be held at the Palmer Train Depot on Sept. 28\, 2023\, from 6:00 to 8:00 P.M. Refreshments will be provided. To help us plan accordingly\, please RSVP by Sept. 21\, 2023.\n\nYour timely response is greatly appreciated!\n\nConversations are also scheduled in the Upper Su\, Sutton\, and Wasilla. Please see our events page for more information.\nQuestions about this event? Email asaitanan@healthymatsu.org
URL:https://www.connectmatsu.org/event/community-conversations-palmer/
ATTACH;FMTTYPE=image/png:https://www.connectmatsu.org/wp-content/uploads/2023/09/Final-Palmer.png
ORGANIZER;CN="Mat-Su Health Foundation":MAILTO:asaitanan@healthymatsu.org
END:VEVENT
END:VCALENDAR