BEGIN:VCALENDAR
VERSION:2.0
PRODID:-//Connect Mat-Su - ECPv6.15.20//NONSGML v1.0//EN
CALSCALE:GREGORIAN
METHOD:PUBLISH
X-WR-CALNAME:Connect Mat-Su
X-ORIGINAL-URL:https://www.connectmatsu.org
X-WR-CALDESC:Events for Connect Mat-Su
REFRESH-INTERVAL;VALUE=DURATION:PT1H
X-Robots-Tag:noindex
X-PUBLISHED-TTL:PT1H
BEGIN:VTIMEZONE
TZID:America/Anchorage
BEGIN:DAYLIGHT
TZOFFSETFROM:-0900
TZOFFSETTO:-0800
TZNAME:AKDT
DTSTART:20220313T110000
END:DAYLIGHT
BEGIN:STANDARD
TZOFFSETFROM:-0800
TZOFFSETTO:-0900
TZNAME:AKST
DTSTART:20221106T100000
END:STANDARD
BEGIN:DAYLIGHT
TZOFFSETFROM:-0900
TZOFFSETTO:-0800
TZNAME:AKDT
DTSTART:20230312T110000
END:DAYLIGHT
BEGIN:STANDARD
TZOFFSETFROM:-0800
TZOFFSETTO:-0900
TZNAME:AKST
DTSTART:20231105T100000
END:STANDARD
BEGIN:DAYLIGHT
TZOFFSETFROM:-0900
TZOFFSETTO:-0800
TZNAME:AKDT
DTSTART:20240310T110000
END:DAYLIGHT
BEGIN:STANDARD
TZOFFSETFROM:-0800
TZOFFSETTO:-0900
TZNAME:AKST
DTSTART:20241103T100000
END:STANDARD
END:VTIMEZONE
BEGIN:VEVENT
DTSTART;TZID=America/Anchorage:20230926T103000
DTEND;TZID=America/Anchorage:20230926T120000
DTSTAMP:20260423T075428
CREATED:20230531T202206Z
LAST-MODIFIED:20230912T182209Z
UID:10009271-1695724200-1695729600@www.connectmatsu.org
SUMMARY:Presentation | Adverse Childhood Experiences (In-person + Online)
DESCRIPTION:This FREE presentation is open to ADULTS who are interested in learning how to identify and counteract Adverse Childhood Experiences (ACEs) to develop resilient kids. \nRegistration is not required. \nFrequent or prolonged exposure to stress can create toxic stress which can damage the developing brain of a child and overall health. A Survival Mode Response to toxic stress increases a child’s heart rate\, blood pressure\, breathing\, and muscle tension. Their thinking brain is knocked offline. Self-protection is their priority. In other words: “I can’t hear you! I can’t respond to you! I am just trying to be safe!” \nLearn How Resilience Trumps ACEs! Parents\, Teachers\, and Caregivers can help by: \n– Gaining an understanding of ACEs and how they affect children’s social\, emotional\, and cognitive abilities and their connection to a wide range of health problems throughout a person’s lifespan. \n– Creating environments where children feel safe emotionally & physically. \n– Helping children identify feelings & manage emotions \n– Creating a safe physical & emotional environment at home\, in school\, and in neighborhoods. \n– Share ways to build resilience. \nQuestions? \nPresentation Content Contact: boydenmichelle@gmail.com \nEvent Details Contact: candrews@rockmatsu.org \nhttps://us06web.zoom.us/j/82576480185?pwd=Tjl6akZueUs2c3FrK0ZEY1N3N25Idz09
URL:https://www.connectmatsu.org/event/presentation-adverse-childhood-experiences-in-person-only/
ATTACH;FMTTYPE=image/jpeg:https://www.connectmatsu.org/wp-content/uploads/2023/05/294a7f95-594d-4ba9-b60b-ea23cadcdc82.jpg
END:VEVENT
BEGIN:VEVENT
DTSTART;TZID=America/Anchorage:20230926T170000
DTEND;TZID=America/Anchorage:20230926T200000
DTSTAMP:20260423T075428
CREATED:20230925T183024Z
LAST-MODIFIED:20260309T173827Z
UID:10009400-1695747600-1695758400@www.connectmatsu.org
SUMMARY:2023 Big Brother Big Sister Big Social
DESCRIPTION:Big Brothers Big Sisters of Alaska is hosting a “BIG” networking night. Open to any and all adults with big hearts. \nJoin us to learn about BBBSAK\, socialize\, and win prizes! (Those who sign up to mentor youth will be entered to win big prizes!)
URL:https://www.connectmatsu.org/event/2023-big-brother-big-sister-big-social/
ATTACH;FMTTYPE=image/png:https://www.connectmatsu.org/wp-content/uploads/2023/09/BBBS-Networking-Night.png
END:VEVENT
BEGIN:VEVENT
DTSTART;TZID=America/Anchorage:20230926T180000
DTEND;TZID=America/Anchorage:20230926T190000
DTSTAMP:20260423T075428
CREATED:20230912T202221Z
LAST-MODIFIED:20230927T022208Z
UID:10009380-1695751200-1695754800@www.connectmatsu.org
SUMMARY:Beginner ASL Class
DESCRIPTION:Join us every Tuesday evening from 5 Sept through 24 Oct from 6pm to 7pm for our beginner American Sign Language class! *$10 per person per class* \nGeraldine Klapak will be your instructor for the class. She is a deaf woman who is experienced in tutoring and teaching ASL. She will be joined by Amy Rosemarie who will be assisting. \n*BBB is a female disabled veteran owned business who exclusively hires homeless youth from the community. We are the only bookbinder in the state. All people are welcome here and events are scheduled by request. Our facility is fully handicap accessible.
URL:https://www.connectmatsu.org/event/beginner-asl-class/
ATTACH;FMTTYPE=image/png:https://www.connectmatsu.org/wp-content/uploads/2023/09/ASL-Classes.png
END:VEVENT
BEGIN:VEVENT
DTSTART;TZID=America/Anchorage:20230926T183000
DTEND;TZID=America/Anchorage:20230926T200000
DTSTAMP:20260423T075428
CREATED:20230823T212212Z
LAST-MODIFIED:20230927T032217Z
UID:10009335-1695753000-1695758400@www.connectmatsu.org
SUMMARY:Knik Tribe Talking Circle- Palmer
DESCRIPTION:Based on the traditional way of communication\, the talking circle provides a space for sharing\, healing\, and connecting with others.
URL:https://www.connectmatsu.org/event/mat-su-reentry-coalition-talking-circle-palmer-6/
ATTACH;FMTTYPE=image/png:https://www.connectmatsu.org/wp-content/uploads/2023/09/Talking-Cirle-MTLCTuesdays.png
END:VEVENT
END:VCALENDAR